BEGIN:VCALENDAR
VERSION:2.0
PRODID:-//Lyon County Museum - ECPv6.15.20//NONSGML v1.0//EN
CALSCALE:GREGORIAN
METHOD:PUBLISH
X-WR-CALNAME:Lyon County Museum
X-ORIGINAL-URL:https://lyoncomuseum.org
X-WR-CALDESC:Events for Lyon County Museum
REFRESH-INTERVAL;VALUE=DURATION:PT1H
X-Robots-Tag:noindex
X-PUBLISHED-TTL:PT1H
BEGIN:VTIMEZONE
TZID:America/Chicago
BEGIN:DAYLIGHT
TZOFFSETFROM:-0600
TZOFFSETTO:-0500
TZNAME:CDT
DTSTART:20230312T080000
END:DAYLIGHT
BEGIN:STANDARD
TZOFFSETFROM:-0500
TZOFFSETTO:-0600
TZNAME:CST
DTSTART:20231105T070000
END:STANDARD
BEGIN:DAYLIGHT
TZOFFSETFROM:-0600
TZOFFSETTO:-0500
TZNAME:CDT
DTSTART:20240310T080000
END:DAYLIGHT
BEGIN:STANDARD
TZOFFSETFROM:-0500
TZOFFSETTO:-0600
TZNAME:CST
DTSTART:20241103T070000
END:STANDARD
BEGIN:DAYLIGHT
TZOFFSETFROM:-0600
TZOFFSETTO:-0500
TZNAME:CDT
DTSTART:20250309T080000
END:DAYLIGHT
BEGIN:STANDARD
TZOFFSETFROM:-0500
TZOFFSETTO:-0600
TZNAME:CST
DTSTART:20251102T070000
END:STANDARD
END:VTIMEZONE
BEGIN:VEVENT
DTSTART;TZID=America/Chicago:20240411T173000
DTEND;TZID=America/Chicago:20240411T193000
DTSTAMP:20260425T060048
CREATED:20240309T185746Z
LAST-MODIFIED:20240309T185746Z
UID:16367-1712856600-1712863800@lyoncomuseum.org
SUMMARY:"The 1980s Farm Crisis in West Central Minnesota" Program and Annual Meeting
DESCRIPTION:“The 1980s Farm Crisis in West Central Minnesota” program and Lyon County Historical Society Annual Meeting is on Thursday\, April 11 starting at 5:30 PM at the Lyon County Museum\, 301 W Lyon Street in Marshall. This event is free will donation and open to the public.\n\n5:30 PM: Light Refreshments\n6:00 PM: Business Meeting (2023 Annual Report)\n6:30 PM: Program: “The 1980s Farm Crisis in West Central Minnesota” by Jim Roe\n\nAbout the Presenter: Jim Roe has worked as a museum planner for most of his career. But when he gets the chance\, he returns to his roots in Minnesota history. After completing a master’s degree in American Studies at the University of Minnesota\, he joined the Minnesota Historical Society\, where his work included researching\, exhibit development\, and several summers as a historic site interpreter. Later\, he worked at the Science Museum of Minnesota and Minnesota Children’s Museum before starting a consulting business in 2002. He was born in Stearns County\, grew up in Las Vegas\, and currently lives in St. Paul\, spending as much time as he possibly can at his cabin up north.\nFor more information\, contact the Lyon County Museum at 507-537-6580 or director@lyoncomuseum.org\n\n* The photograph is courtesy of the Minnesota Historical Society Star Tribune Negatives Collection. Rally at the Capitol on January 21\, 1985.
URL:https://lyoncomuseum.org/event/the-1980s-farm-crisis-in-west-central-minnesota-program-and-annual-meeting/
LOCATION:Lyon County Historical Society Museum\, 301 West Lyon Street\, Marshall\, MN\, 56258\, United States
CATEGORIES:Meeting,Program
ATTACH;FMTTYPE=image/jpeg:https://lyoncomuseum.org/wp-content/uploads/2024/03/MNHS-Strib-Negs-box-588-Jan-21-1985-Hager-22a-640x426-1.jpg
END:VEVENT
END:VCALENDAR