BEGIN:VCALENDAR
VERSION:2.0
PRODID:-//Lyon County Museum - ECPv6.15.20//NONSGML v1.0//EN
CALSCALE:GREGORIAN
METHOD:PUBLISH
X-ORIGINAL-URL:https://lyoncomuseum.org
X-WR-CALDESC:Events for Lyon County Museum
REFRESH-INTERVAL;VALUE=DURATION:PT1H
X-Robots-Tag:noindex
X-PUBLISHED-TTL:PT1H
BEGIN:VTIMEZONE
TZID:America/Chicago
BEGIN:DAYLIGHT
TZOFFSETFROM:-0600
TZOFFSETTO:-0500
TZNAME:CDT
DTSTART:20220313T080000
END:DAYLIGHT
BEGIN:STANDARD
TZOFFSETFROM:-0500
TZOFFSETTO:-0600
TZNAME:CST
DTSTART:20221106T070000
END:STANDARD
BEGIN:DAYLIGHT
TZOFFSETFROM:-0600
TZOFFSETTO:-0500
TZNAME:CDT
DTSTART:20230312T080000
END:DAYLIGHT
BEGIN:STANDARD
TZOFFSETFROM:-0500
TZOFFSETTO:-0600
TZNAME:CST
DTSTART:20231105T070000
END:STANDARD
BEGIN:DAYLIGHT
TZOFFSETFROM:-0600
TZOFFSETTO:-0500
TZNAME:CDT
DTSTART:20240310T080000
END:DAYLIGHT
BEGIN:STANDARD
TZOFFSETFROM:-0500
TZOFFSETTO:-0600
TZNAME:CST
DTSTART:20241103T070000
END:STANDARD
END:VTIMEZONE
BEGIN:VEVENT
DTSTART;TZID=America/Chicago:20231104T140000
DTEND;TZID=America/Chicago:20231104T150000
DTSTAMP:20260424T205146
CREATED:20231010T163109Z
LAST-MODIFIED:20231010T163109Z
UID:15095-1699106400-1699110000@lyoncomuseum.org
SUMMARY:Vietnam Veterans Panel
DESCRIPTION:The Lyon County Museum is hosting a Vietnam Veterans Panel in connection with the new exhibit\, The Vietnam War and Lyon County.  The panel includes local Vietnam veterans: Dan Dybsetter\, Dan Markell\, Rich Maurer\, Karl Porisch\, and George Seldat.  Panelists will discuss topics related to their service during the Vietnam War.  This presentation is free and open to the public.  Light  refreshments will be served. \n 
URL:https://lyoncomuseum.org/event/vietnam-veterans-panel/
LOCATION:Lyon County Historical Society Museum\, 301 West Lyon Street\, Marshall\, MN\, 56258\, United States
CATEGORIES:Program
ATTACH;FMTTYPE=image/jpeg:https://lyoncomuseum.org/wp-content/uploads/2023/10/DY14B71.jpg
END:VEVENT
BEGIN:VEVENT
DTSTART;TZID=America/Chicago:20231110T190000
DTEND;TZID=America/Chicago:20231110T203000
DTSTAMP:20260424T205146
CREATED:20231010T172211Z
LAST-MODIFIED:20231030T212233Z
UID:15098-1699642800-1699648200@lyoncomuseum.org
SUMMARY:"The War To End All Wars" The Movie
DESCRIPTION:The “History Rocks” project is a collaboration between museums around the globe and the well-known Swedish rock band\, Sabaton. Following years of hard work and research\, the rock band has created “The War To End All Wars – The Movie” in partnership with Yarnhub\, an animation studio focused on historical content. “The War To End All Wars – The Movie” is 67 minutes long and features the band’s music. It takes viewers on an educational journey through some of the most nail-biting WW1 stories. \nLyon County Museum\, 301 W Lyon St\, Marshall Screenings: \nNovember 10\, 11\, 17\, & 18 at 7:00 PM \nFree will donation. Limited seating. Must register in advance by clicking on this link to fill out form: https://docs.google.com/forms/d/e/1FAIpQLSfz9AqA7ElpQIE-1V_7VXer1CCeishLeCicB-cFqJb2JcsTOg/viewform?usp=sf_link 
URL:https://lyoncomuseum.org/event/the-war-to-end-all-wars-the-movie/
LOCATION:Lyon County Historical Society Museum\, 301 West Lyon Street\, Marshall\, MN\, 56258\, United States
CATEGORIES:Program
ATTACH;FMTTYPE=image/png:https://lyoncomuseum.org/wp-content/uploads/2023/10/TWTEAW_logo_black-1.png
END:VEVENT
BEGIN:VEVENT
DTSTART;TZID=America/Chicago:20231111T190000
DTEND;TZID=America/Chicago:20231111T203000
DTSTAMP:20260424T205146
CREATED:20231030T212032Z
LAST-MODIFIED:20231030T212259Z
UID:15241-1699729200-1699734600@lyoncomuseum.org
SUMMARY:"The War To End All Wars" The Movie
DESCRIPTION:The “History Rocks” project is a collaboration between museums around the globe and the well-known Swedish rock band\, Sabaton. Following years of hard work and research\, the rock band has created “The War To End All Wars – The Movie” in partnership with Yarnhub\, an animation studio focused on historical content. “The War To End All Wars – The Movie” is 67 minutes long and features the band’s music. It takes viewers on an educational journey through some of the most nail-biting WW1 stories. \nLyon County Museum\, 301 W Lyon St\, Marshall Screenings: \nNovember 10\, 11\, 17\, & 18 at 7:00 PM \nFree will donation. Limited seating. Must register in advance by clicking on this link to fill out form: https://docs.google.com/forms/d/e/1FAIpQLSfz9AqA7ElpQIE-1V_7VXer1CCeishLeCicB-cFqJb2JcsTOg/viewform?usp=sf_link 
URL:https://lyoncomuseum.org/event/the-war-to-end-all-wars-the-movie-2/
LOCATION:Lyon County Historical Society Museum\, 301 West Lyon Street\, Marshall\, MN\, 56258\, United States
CATEGORIES:Program
ATTACH;FMTTYPE=image/jpeg:https://lyoncomuseum.org/wp-content/uploads/2023/10/TWTEAW_logo_black-1-scaled.jpg
END:VEVENT
BEGIN:VEVENT
DTSTART;TZID=America/Chicago:20231117T190000
DTEND;TZID=America/Chicago:20231117T203000
DTSTAMP:20260424T205146
CREATED:20231030T212203Z
LAST-MODIFIED:20231030T212203Z
UID:15243-1700247600-1700253000@lyoncomuseum.org
SUMMARY:"The War To End All Wars" The Movie
DESCRIPTION:The “History Rocks” project is a collaboration between museums around the globe and the well-known Swedish rock band\, Sabaton. Following years of hard work and research\, the rock band has created “The War To End All Wars – The Movie” in partnership with Yarnhub\, an animation studio focused on historical content. “The War To End All Wars – The Movie” is 67 minutes long and features the band’s music. It takes viewers on an educational journey through some of the most nail-biting WW1 stories. \nLyon County Museum\, 301 W Lyon St\, Marshall Screenings: \nNovember 10\, 11\, 17\, & 18 at 7:00 PM \nFree will donation. Limited seating. Must register in advance by clicking on this link to fill out form: https://docs.google.com/forms/d/e/1FAIpQLSfz9AqA7ElpQIE-1V_7VXer1CCeishLeCicB-cFqJb2JcsTOg/viewform?usp=sf_link 
URL:https://lyoncomuseum.org/event/the-war-to-end-all-wars-the-movie-3/
LOCATION:Lyon County Historical Society Museum\, 301 West Lyon Street\, Marshall\, MN\, 56258\, United States
CATEGORIES:Program
ATTACH;FMTTYPE=image/jpeg:https://lyoncomuseum.org/wp-content/uploads/2023/10/TWTEAW_logo_black-1-scaled.jpg
END:VEVENT
BEGIN:VEVENT
DTSTART;TZID=America/Chicago:20231118T110000
DTEND;TZID=America/Chicago:20231230T170000
DTSTAMP:20260424T205146
CREATED:20231030T211754Z
LAST-MODIFIED:20231030T211754Z
UID:15238-1700305200-1703955600@lyoncomuseum.org
SUMMARY:The 11th Annual Indoor Christmas Tree Walk
DESCRIPTION:The 11th Annual Indoor Christmas Tree Walk opens at the Lyon County Museum\, 301 W Lyon St\, Marshall on Saturday\, November 18. The trees and museum will stay decorated through December 30. View decorated trees by area families\, businesses\, non-profit organizations\, and service organizations. \nTo vote for your favorite(s)\, place money in a box located by each tree. The top 3 organizations/businesses with the most money in their boxes will win the 2023 tree walk.  There will be an online option to vote on the museum’s website.  All proceeds from the boxes will go to benefit the Lyon County Historical Society’s mission of preserving and presenting Lyon County history.  1st\, 2nd and 3rd place prizes will be awarded to the top 3 trees.  1st prize is $150 in Marshall Chamber Dollars 2nd prize is $100 in Marshall Chamber Dollars 3rd prize is $50 in Marshall Chamber Dollars. \nThe museum will have extended hours during this time.  The museum hours for November 18-December 30 are Monday-Thursday: 10:00 AM to 4:00 PM; Friday: 10:00 AM to 7:00 PM; Saturday: 11:00 AM to 5:00 PM; Closed on Sundays.  The museum will be closed on Thursday\, November 23\, Monday\, December 25\, and Tuesday\, December 26. \nFor more information\, contact the museum at 507-537-6580 or director@lyoncomuseum.org
URL:https://lyoncomuseum.org/event/the-11th-annual-indoor-christmas-tree-walk/
LOCATION:Lyon County Historical Society Museum\, 301 West Lyon Street\, Marshall\, MN\, 56258\, United States
CATEGORIES:Exhibit,Program
ATTACH;FMTTYPE=image/jpeg:https://lyoncomuseum.org/wp-content/uploads/2023/10/20221129_095816-scaled.jpg
END:VEVENT
BEGIN:VEVENT
DTSTART;TZID=America/Chicago:20231118T190000
DTEND;TZID=America/Chicago:20231118T203000
DTSTAMP:20260424T205146
CREATED:20231030T212348Z
LAST-MODIFIED:20231030T212348Z
UID:15247-1700334000-1700339400@lyoncomuseum.org
SUMMARY:"The War To End All Wars" The Movie
DESCRIPTION:The “History Rocks” project is a collaboration between museums around the globe and the well-known Swedish rock band\, Sabaton. Following years of hard work and research\, the rock band has created “The War To End All Wars – The Movie” in partnership with Yarnhub\, an animation studio focused on historical content. “The War To End All Wars – The Movie” is 67 minutes long and features the band’s music. It takes viewers on an educational journey through some of the most nail-biting WW1 stories. \nLyon County Museum\, 301 W Lyon St\, Marshall Screenings: \nNovember 10\, 11\, 17\, & 18 at 7:00 PM \nFree will donation. Limited seating. Must register in advance by clicking on this link to fill out form: https://docs.google.com/forms/d/e/1FAIpQLSfz9AqA7ElpQIE-1V_7VXer1CCeishLeCicB-cFqJb2JcsTOg/viewform?usp=sf_link 
URL:https://lyoncomuseum.org/event/the-war-to-end-all-wars-the-movie-4/
LOCATION:Lyon County Historical Society Museum\, 301 West Lyon Street\, Marshall\, MN\, 56258\, United States
CATEGORIES:Program
ATTACH;FMTTYPE=image/jpeg:https://lyoncomuseum.org/wp-content/uploads/2023/10/TWTEAW_logo_black-1-scaled.jpg
END:VEVENT
END:VCALENDAR