BEGIN:VCALENDAR
VERSION:2.0
PRODID:-//Lyon County Museum - ECPv6.15.20//NONSGML v1.0//EN
CALSCALE:GREGORIAN
METHOD:PUBLISH
X-ORIGINAL-URL:https://lyoncomuseum.org
X-WR-CALDESC:Events for Lyon County Museum
REFRESH-INTERVAL;VALUE=DURATION:PT1H
X-Robots-Tag:noindex
X-PUBLISHED-TTL:PT1H
BEGIN:VTIMEZONE
TZID:America/Chicago
BEGIN:DAYLIGHT
TZOFFSETFROM:-0600
TZOFFSETTO:-0500
TZNAME:CDT
DTSTART:20220313T080000
END:DAYLIGHT
BEGIN:STANDARD
TZOFFSETFROM:-0500
TZOFFSETTO:-0600
TZNAME:CST
DTSTART:20221106T070000
END:STANDARD
BEGIN:DAYLIGHT
TZOFFSETFROM:-0600
TZOFFSETTO:-0500
TZNAME:CDT
DTSTART:20230312T080000
END:DAYLIGHT
BEGIN:STANDARD
TZOFFSETFROM:-0500
TZOFFSETTO:-0600
TZNAME:CST
DTSTART:20231105T070000
END:STANDARD
BEGIN:DAYLIGHT
TZOFFSETFROM:-0600
TZOFFSETTO:-0500
TZNAME:CDT
DTSTART:20240310T080000
END:DAYLIGHT
BEGIN:STANDARD
TZOFFSETFROM:-0500
TZOFFSETTO:-0600
TZNAME:CST
DTSTART:20241103T070000
END:STANDARD
END:VTIMEZONE
BEGIN:VEVENT
DTSTART;TZID=America/Chicago:20230808T133000
DTEND;TZID=America/Chicago:20230808T160000
DTSTAMP:20260424T153145
CREATED:20230714T185848Z
LAST-MODIFIED:20230714T185848Z
UID:14496-1691501400-1691510400@lyoncomuseum.org
SUMMARY:The Vietnam War and Lyon County Exhibit Preview Open House
DESCRIPTION:The Lyon County Museum\, 301 W Lyon St\, Marshall is opening a new exhibit\, The Vietnam War and Lyon County\, in August.  On Tuesday\, August 8 from 1:30-4:00 PM\, an exhibit preview open house will be held for all veterans and their family members along with active service men and women.  At 2:00\, local Vietnam veterans will share how they participated in the exhibit.  Light refreshments will be served.  For more information\, contact the Lyon County Museum at 507-537-6580 or director@lyoncomuseum.org
URL:https://lyoncomuseum.org/event/the-vietnam-war-and-lyon-county-exhibit-preview-open-house/
LOCATION:Lyon County Historical Society Museum\, 301 West Lyon Street\, Marshall\, MN\, 56258\, United States
CATEGORIES:Exhibit,Program
ATTACH;FMTTYPE=image/jpeg:https://lyoncomuseum.org/wp-content/uploads/2023/07/Vietnam-Exhibit-Opening-Poster-Letter.jpg
END:VEVENT
BEGIN:VEVENT
DTSTART;TZID=America/Chicago:20230811T100000
DTEND;TZID=America/Chicago:20230812T190000
DTSTAMP:20260424T153145
CREATED:20230713T220109Z
LAST-MODIFIED:20230713T220109Z
UID:14477-1691748000-1691866800@lyoncomuseum.org
SUMMARY:Escape the Schoolhouse Fundraiser
DESCRIPTION:August 11 & 12 at the one room schoolhouse on the Lyon County Fairgrounds \nGather family and friends for a team (max. 6 people) and enjoy an escape room challenge in a one room schoolhouse! \nYour team will have 30 minutes to discover clues\, solve puzzles\, and  accomplish tasks to escape the schoolhouse! \nCost is $25 per team.  Cash or check (checks made payable to Lyon County Museum) \nTo reserve your time slot\, click on the link (Escape Room Registration) below: \nEscape Room Registration \n 
URL:https://lyoncomuseum.org/event/escape-the-schoolhouse-fundraiser-3/
LOCATION:Lyon County Fairgrounds\, Fairgrounds Rd\, Marshall\, Minnesota\, 56258
CATEGORIES:Fundraiser,Program
ATTACH;FMTTYPE=image/jpeg:https://lyoncomuseum.org/wp-content/uploads/2022/09/234834242_10165439259170613_6125328252076434122_n.jpg
END:VEVENT
END:VCALENDAR