BEGIN:VCALENDAR
VERSION:2.0
PRODID:-//Lyon County Museum - ECPv6.15.20//NONSGML v1.0//EN
CALSCALE:GREGORIAN
METHOD:PUBLISH
X-ORIGINAL-URL:https://lyoncomuseum.org
X-WR-CALDESC:Events for Lyon County Museum
REFRESH-INTERVAL;VALUE=DURATION:PT1H
X-Robots-Tag:noindex
X-PUBLISHED-TTL:PT1H
BEGIN:VTIMEZONE
TZID:America/Chicago
BEGIN:DAYLIGHT
TZOFFSETFROM:-0600
TZOFFSETTO:-0500
TZNAME:CDT
DTSTART:20220313T080000
END:DAYLIGHT
BEGIN:STANDARD
TZOFFSETFROM:-0500
TZOFFSETTO:-0600
TZNAME:CST
DTSTART:20221106T070000
END:STANDARD
BEGIN:DAYLIGHT
TZOFFSETFROM:-0600
TZOFFSETTO:-0500
TZNAME:CDT
DTSTART:20230312T080000
END:DAYLIGHT
BEGIN:STANDARD
TZOFFSETFROM:-0500
TZOFFSETTO:-0600
TZNAME:CST
DTSTART:20231105T070000
END:STANDARD
BEGIN:DAYLIGHT
TZOFFSETFROM:-0600
TZOFFSETTO:-0500
TZNAME:CDT
DTSTART:20240310T080000
END:DAYLIGHT
BEGIN:STANDARD
TZOFFSETFROM:-0500
TZOFFSETTO:-0600
TZNAME:CST
DTSTART:20241103T070000
END:STANDARD
END:VTIMEZONE
BEGIN:VEVENT
DTSTART;TZID=America/Chicago:20230601T170000
DTEND;TZID=America/Chicago:20230601T200000
DTSTAMP:20260424T113710
CREATED:20230504T160202Z
LAST-MODIFIED:20230504T160202Z
UID:13803-1685638800-1685649600@lyoncomuseum.org
SUMMARY:LCHS Annual Meeting and Program
DESCRIPTION:Join us for the Lyon County Historical Society Annual Meeting and Program to be held on Thursday\, June 1 at the Marshall-Lyon County Library\n5:00-6:00 PM: Social Hour. Pizza Buffet Starts at 5:30 PM\n6:00 PM: Business Meeting (2022 Annual Report)\n6:30 PM: Program\, LCHS President\, Bill Palmer “The Value of Oral Histories and Conducting Interviews”\nRSVP by May 30 is required. Meal: $13 per person for LCHS Members and $15 for non-members. Call 507-537-6580 or email director@lyoncomuseum.org
URL:https://lyoncomuseum.org/event/lchs-annual-meeting-and-program/
LOCATION:Marshall-Lyon County Library\, 201 C Street\, Marshall\, MN\, 56258\, United States
CATEGORIES:Meeting,Program
ATTACH;FMTTYPE=image/jpeg:https://lyoncomuseum.org/wp-content/uploads/2023/05/2017-07-24-11.30.59-scaled.jpg
END:VEVENT
BEGIN:VEVENT
DTSTART;TZID=America/Chicago:20230610T130000
DTEND;TZID=America/Chicago:20230610T160000
DTSTAMP:20260424T113710
CREATED:20230505T163800Z
LAST-MODIFIED:20230505T163800Z
UID:13817-1686402000-1686412800@lyoncomuseum.org
SUMMARY:Tea Party at the Museum and Dollhouse Tour
DESCRIPTION:Join us for a very special event on Saturday\, June 10.\nTea Party at the Museum and Dollhouse Tour\n1:00-2:30 PM: Tea Party at the Lyon County Museum (301 W Lyon St\, Marshall) followed by Dollhouses and German Toys Tour at 3:00 PM at the home of Robin and Richard Banbury.\nRSVP by June 8: 507-537-6580. Space is limited.\nAdults: $10/Per Person\nChildren ages 5-15 FREE with Adult Purchase\nEnjoy tea\, lemonade and light refreshments\, and a few party games. Come dressed in your finest hats\, gloves\, heels\, and pearls should you choose. A small prize will be given for the most interesting hat.\nGreat event for mothers and daughters or group of friends!
URL:https://lyoncomuseum.org/event/tea-party-at-the-museum-and-dollhouse-tour/
LOCATION:Lyon County Historical Society Museum\, 301 West Lyon Street\, Marshall\, MN\, 56258\, United States
CATEGORIES:Fundraiser,Program
ATTACH;FMTTYPE=image/jpeg:https://lyoncomuseum.org/wp-content/uploads/2023/05/istockphoto-586945438-612x612-1.jpg
END:VEVENT
END:VCALENDAR