BEGIN:VCALENDAR
VERSION:2.0
PRODID:-//Lyon County Museum - ECPv6.15.20//NONSGML v1.0//EN
CALSCALE:GREGORIAN
METHOD:PUBLISH
X-WR-CALNAME:Lyon County Museum
X-ORIGINAL-URL:https://lyoncomuseum.org
X-WR-CALDESC:Events for Lyon County Museum
REFRESH-INTERVAL;VALUE=DURATION:PT1H
X-Robots-Tag:noindex
X-PUBLISHED-TTL:PT1H
BEGIN:VTIMEZONE
TZID:America/Chicago
BEGIN:DAYLIGHT
TZOFFSETFROM:-0600
TZOFFSETTO:-0500
TZNAME:CDT
DTSTART:20220313T080000
END:DAYLIGHT
BEGIN:STANDARD
TZOFFSETFROM:-0500
TZOFFSETTO:-0600
TZNAME:CST
DTSTART:20221106T070000
END:STANDARD
BEGIN:DAYLIGHT
TZOFFSETFROM:-0600
TZOFFSETTO:-0500
TZNAME:CDT
DTSTART:20230312T080000
END:DAYLIGHT
BEGIN:STANDARD
TZOFFSETFROM:-0500
TZOFFSETTO:-0600
TZNAME:CST
DTSTART:20231105T070000
END:STANDARD
BEGIN:DAYLIGHT
TZOFFSETFROM:-0600
TZOFFSETTO:-0500
TZNAME:CDT
DTSTART:20240310T080000
END:DAYLIGHT
BEGIN:STANDARD
TZOFFSETFROM:-0500
TZOFFSETTO:-0600
TZNAME:CST
DTSTART:20241103T070000
END:STANDARD
END:VTIMEZONE
BEGIN:VEVENT
DTSTART;TZID=America/Chicago:20230406T110000
DTEND;TZID=America/Chicago:20230528T190000
DTSTAMP:20260424T100027
CREATED:20230327T165218Z
LAST-MODIFIED:20230423T011124Z
UID:13479-1680778800-1685300400@lyoncomuseum.org
SUMMARY:Escape Room at the Museum
DESCRIPTION:Fundraiser for the Lyon County Historical Society Museum \nEvent Timing: April 2023\nEvent Address:  Lyon County Museum\, 301 W Lyon St\, Marshall\, MN 56258\nContact us at (507) 537-6580 or director@lyoncomuseum.org\nFundraiser for the District #80 one room schoolhouse\n\n\nSetting:  It is March 1944.  As World War II wears on across the globe\, thankfully it has been a mild winter here in Lyon County. Following devastating storms in 1943 that destroyed many crops\, there is hope for 1944.  Although the draft is in full swing\, the farm deferment will spare a farmer who produces 16 or more “war units” per year to remain at home and continue to produce food to support the war effort.  Neighbors are planning their Victory Gardens as they learn of upcoming changes in the ration system.\n\nWelcome to the _____________ home in Marshall\, Minnesota\, a typical home of the time.  Johnny needs your help! His crime-fighting friend has been captured and the Golden Orb is missing.  Find the mysterious Golden Orb\, solve codes\, follow instructions in the messages to save his hero in time for today’s movie matinee!  You have 45 minutes.\n \nRules: Recommended for ages 12 and up.  Only 4 people per team are allowed to compete for each time slot.  Please arrive at least 10 minutes before your scheduled start time.\n\nCost: $25.00 per team.  Cash or Check (Made payable to Lyon County Museum)\n\nClick on link to sign up:\nEscape Room at the Museum
URL:https://lyoncomuseum.org/event/escape-room-at-the-museum/
LOCATION:Lyon County Historical Society Museum\, 301 West Lyon Street\, Marshall\, MN\, 56258\, United States
CATEGORIES:Program
ATTACH;FMTTYPE=image/jpeg:https://lyoncomuseum.org/wp-content/uploads/2023/03/20230323_083053-scaled.jpg
END:VEVENT
BEGIN:VEVENT
DTSTART;TZID=America/Chicago:20230516T160000
DTEND;TZID=America/Chicago:20230516T180000
DTSTAMP:20260424T100027
CREATED:20230423T011040Z
LAST-MODIFIED:20230423T011040Z
UID:13688-1684252800-1684260000@lyoncomuseum.org
SUMMARY:10 Year Anniversary Open House at the Lyon County Museum
DESCRIPTION:We are having a 10 year anniversary open house on Tuesday\, May 16: 4:00 PM to 6:00 PM.  Program at 6:00 PM.  \nJoin us for cake and ice cream. Register for door prizes. \n6:00 PM: Executive Director\, Jennifer Andries\, will present on LCHS’s mission of preserving and sharing Lyon County’s history. A presentation of select artifacts and photographs from the collection will be shown. \nLyon County Museum\, 301 W Lyon Street\, Marshall\, MN 56258 \nOn May 16\, 2013\, we held our grand opening and ribbon cutting ceremony for the historical society’s new museum in the former Marshall-Lyon County Library.
URL:https://lyoncomuseum.org/event/10-year-anniversary-open-house-at-the-lyon-county-museum/
LOCATION:Lyon County Historical Society Museum\, 301 West Lyon Street\, Marshall\, MN\, 56258\, United States
CATEGORIES:Program
ATTACH;FMTTYPE=image/jpeg:https://lyoncomuseum.org/wp-content/uploads/2022/07/Lyon-County-Museum-scaled.jpg
END:VEVENT
END:VCALENDAR