BEGIN:VCALENDAR
VERSION:2.0
PRODID:-//Lyon County Museum - ECPv6.15.20//NONSGML v1.0//EN
CALSCALE:GREGORIAN
METHOD:PUBLISH
X-WR-CALNAME:Lyon County Museum
X-ORIGINAL-URL:https://lyoncomuseum.org
X-WR-CALDESC:Events for Lyon County Museum
REFRESH-INTERVAL;VALUE=DURATION:PT1H
X-Robots-Tag:noindex
X-PUBLISHED-TTL:PT1H
BEGIN:VTIMEZONE
TZID:America/Chicago
BEGIN:DAYLIGHT
TZOFFSETFROM:-0600
TZOFFSETTO:-0500
TZNAME:CDT
DTSTART:20220313T080000
END:DAYLIGHT
BEGIN:STANDARD
TZOFFSETFROM:-0500
TZOFFSETTO:-0600
TZNAME:CST
DTSTART:20221106T070000
END:STANDARD
BEGIN:DAYLIGHT
TZOFFSETFROM:-0600
TZOFFSETTO:-0500
TZNAME:CDT
DTSTART:20230312T080000
END:DAYLIGHT
BEGIN:STANDARD
TZOFFSETFROM:-0500
TZOFFSETTO:-0600
TZNAME:CST
DTSTART:20231105T070000
END:STANDARD
BEGIN:DAYLIGHT
TZOFFSETFROM:-0600
TZOFFSETTO:-0500
TZNAME:CDT
DTSTART:20240310T080000
END:DAYLIGHT
BEGIN:STANDARD
TZOFFSETFROM:-0500
TZOFFSETTO:-0600
TZNAME:CST
DTSTART:20241103T070000
END:STANDARD
END:VTIMEZONE
BEGIN:VEVENT
DTSTART;TZID=America/Chicago:20230406T100000
DTEND;TZID=America/Chicago:20230408T160000
DTSTAMP:20260424T081450
CREATED:20230327T164956Z
LAST-MODIFIED:20230327T164956Z
UID:13477-1680775200-1680969600@lyoncomuseum.org
SUMMARY:Easter Egg & Bunny Scavenger Hunt at the Museum
DESCRIPTION:Visit the Lyon County Museum\, 301 W Lyon Street in Marshall\, on April 6\, 7\, & 8 to complete an Easter Egg and Bunny Scavenger Hunt! After counting eggs and bunnies in the exhibit galleries\, the completed scavenger hunt form can be turned in at the front desk for a prize! Schwan’s ice cream novelties in the museum’s ice cream shop are buy one get one free! Museum hours are Monday-Friday: 10:00 AM-4:00 PM\, Saturday: 12:00 PM-4:00 PM\, and Sunday: Closed.
URL:https://lyoncomuseum.org/event/easter-egg-bunny-scavenger-hunt-at-the-museum/
LOCATION:Lyon County Historical Society Museum\, 301 West Lyon Street\, Marshall\, MN\, 56258\, United States
CATEGORIES:Program
ATTACH;FMTTYPE=image/jpeg:https://lyoncomuseum.org/wp-content/uploads/2021/03/20152457.jpg
END:VEVENT
BEGIN:VEVENT
DTSTART;TZID=America/Chicago:20230406T110000
DTEND;TZID=America/Chicago:20230528T190000
DTSTAMP:20260424T081450
CREATED:20230327T165218Z
LAST-MODIFIED:20230423T011124Z
UID:13479-1680778800-1685300400@lyoncomuseum.org
SUMMARY:Escape Room at the Museum
DESCRIPTION:Fundraiser for the Lyon County Historical Society Museum \nEvent Timing: April 2023\nEvent Address:  Lyon County Museum\, 301 W Lyon St\, Marshall\, MN 56258\nContact us at (507) 537-6580 or director@lyoncomuseum.org\nFundraiser for the District #80 one room schoolhouse\n\n\nSetting:  It is March 1944.  As World War II wears on across the globe\, thankfully it has been a mild winter here in Lyon County. Following devastating storms in 1943 that destroyed many crops\, there is hope for 1944.  Although the draft is in full swing\, the farm deferment will spare a farmer who produces 16 or more “war units” per year to remain at home and continue to produce food to support the war effort.  Neighbors are planning their Victory Gardens as they learn of upcoming changes in the ration system.\n\nWelcome to the _____________ home in Marshall\, Minnesota\, a typical home of the time.  Johnny needs your help! His crime-fighting friend has been captured and the Golden Orb is missing.  Find the mysterious Golden Orb\, solve codes\, follow instructions in the messages to save his hero in time for today’s movie matinee!  You have 45 minutes.\n \nRules: Recommended for ages 12 and up.  Only 4 people per team are allowed to compete for each time slot.  Please arrive at least 10 minutes before your scheduled start time.\n\nCost: $25.00 per team.  Cash or Check (Made payable to Lyon County Museum)\n\nClick on link to sign up:\nEscape Room at the Museum
URL:https://lyoncomuseum.org/event/escape-room-at-the-museum/
LOCATION:Lyon County Historical Society Museum\, 301 West Lyon Street\, Marshall\, MN\, 56258\, United States
CATEGORIES:Program
ATTACH;FMTTYPE=image/jpeg:https://lyoncomuseum.org/wp-content/uploads/2023/03/20230323_083053-scaled.jpg
END:VEVENT
BEGIN:VEVENT
DTSTART;TZID=America/Chicago:20230417T183000
DTEND;TZID=America/Chicago:20230417T193000
DTSTAMP:20260424T081450
CREATED:20230209T174220Z
LAST-MODIFIED:20230313T181432Z
UID:12907-1681756200-1681759800@lyoncomuseum.org
SUMMARY:Book Talk: The Great Storm: Minnesota’s Victims in the Blizzard of January 7\, 1873
DESCRIPTION:The Lyon County Museum will host a book talk featuring Kandiyohi County native\, Carolyn Mankell Sowinski. She has written a book about a 3-day blizzard which occurred 150 years ago. In her book\, The Great Storm: Minnesota’s Victims in the Blizzard of January 7\, 1873\, Sowinski has identified 84 people from 31 counties in the state who died in this storm: men and women; children and babies; Civil War veterans and recent immigrants; homesteaders and villagers; state residents and visitors. Friends died together; neighbors died together; family members died together. Many died alone—suffering for one\, two\, or all three days.\nIn her presentation Sowinski will share the stories of five Lyon County victims: Marvin Chase\, Loren Fox and daughter Winona\, Asle Olsen\, Miss Oleson. Sowinski will read excerpts about the storm\, highlight some historic documents about the victims\, and provide helpful hints when doing research.\nThe book talk will be at 6:30 pm on Monday\, April 17\, 2023. Sowinski will have books for sale at the event (cash or check). The author has five books about her ancestors and Minnesota history available on Amazon.com.
URL:https://lyoncomuseum.org/event/book-talk-the-great-storm-minnesotas-victims-in-the-blizzard-of-january-7-1873/
LOCATION:Lyon County Historical Society Museum\, 301 West Lyon Street\, Marshall\, MN\, 56258\, United States
CATEGORIES:Program
ATTACH;FMTTYPE=image/jpeg:https://lyoncomuseum.org/wp-content/uploads/2023/02/Front-cover-of-TGS.jpg
END:VEVENT
END:VCALENDAR