BEGIN:VCALENDAR
VERSION:2.0
PRODID:-//Lyon County Museum - ECPv6.15.20//NONSGML v1.0//EN
CALSCALE:GREGORIAN
METHOD:PUBLISH
X-ORIGINAL-URL:https://lyoncomuseum.org
X-WR-CALDESC:Events for Lyon County Museum
REFRESH-INTERVAL;VALUE=DURATION:PT1H
X-Robots-Tag:noindex
X-PUBLISHED-TTL:PT1H
BEGIN:VTIMEZONE
TZID:America/Chicago
BEGIN:DAYLIGHT
TZOFFSETFROM:-0600
TZOFFSETTO:-0500
TZNAME:CDT
DTSTART:20220313T080000
END:DAYLIGHT
BEGIN:STANDARD
TZOFFSETFROM:-0500
TZOFFSETTO:-0600
TZNAME:CST
DTSTART:20221106T070000
END:STANDARD
BEGIN:DAYLIGHT
TZOFFSETFROM:-0600
TZOFFSETTO:-0500
TZNAME:CDT
DTSTART:20230312T080000
END:DAYLIGHT
BEGIN:STANDARD
TZOFFSETFROM:-0500
TZOFFSETTO:-0600
TZNAME:CST
DTSTART:20231105T070000
END:STANDARD
BEGIN:DAYLIGHT
TZOFFSETFROM:-0600
TZOFFSETTO:-0500
TZNAME:CDT
DTSTART:20240310T080000
END:DAYLIGHT
BEGIN:STANDARD
TZOFFSETFROM:-0500
TZOFFSETTO:-0600
TZNAME:CST
DTSTART:20241103T070000
END:STANDARD
END:VTIMEZONE
BEGIN:VEVENT
DTSTART;TZID=America/Chicago:20230218T130000
DTEND;TZID=America/Chicago:20230218T160000
DTSTAMP:20260424T044821
CREATED:20230209T171406Z
LAST-MODIFIED:20230209T171406Z
UID:12894-1676725200-1676736000@lyoncomuseum.org
SUMMARY:Tea\, Sweets\, and Crafts at the Museum
DESCRIPTION:Drop in at the Lyon County Museum\, 301 W Lyon St\, Marshall on Saturday\, February 18 1:00-4:00 PM for complimentary tea\, lemonade\, and sweets. Make and take or take and make craft activity stations will be set up including craft roses.
URL:https://lyoncomuseum.org/event/tea-sweets-and-crafts-at-the-museum/
LOCATION:Lyon County Historical Society Museum\, 301 West Lyon Street\, Marshall\, MN\, 56258\, United States
CATEGORIES:Program
ATTACH;FMTTYPE=image/jpeg:https://lyoncomuseum.org/wp-content/uploads/2023/02/20154004.jpg
END:VEVENT
END:VCALENDAR