BEGIN:VCALENDAR
VERSION:2.0
PRODID:-//Lyon County Museum - ECPv6.15.20//NONSGML v1.0//EN
CALSCALE:GREGORIAN
METHOD:PUBLISH
X-ORIGINAL-URL:https://lyoncomuseum.org
X-WR-CALDESC:Events for Lyon County Museum
REFRESH-INTERVAL;VALUE=DURATION:PT1H
X-Robots-Tag:noindex
X-PUBLISHED-TTL:PT1H
BEGIN:VTIMEZONE
TZID:America/Chicago
BEGIN:DAYLIGHT
TZOFFSETFROM:-0600
TZOFFSETTO:-0500
TZNAME:CDT
DTSTART:20210314T080000
END:DAYLIGHT
BEGIN:STANDARD
TZOFFSETFROM:-0500
TZOFFSETTO:-0600
TZNAME:CST
DTSTART:20211107T070000
END:STANDARD
BEGIN:DAYLIGHT
TZOFFSETFROM:-0600
TZOFFSETTO:-0500
TZNAME:CDT
DTSTART:20220313T080000
END:DAYLIGHT
BEGIN:STANDARD
TZOFFSETFROM:-0500
TZOFFSETTO:-0600
TZNAME:CST
DTSTART:20221106T070000
END:STANDARD
BEGIN:DAYLIGHT
TZOFFSETFROM:-0600
TZOFFSETTO:-0500
TZNAME:CDT
DTSTART:20230312T080000
END:DAYLIGHT
BEGIN:STANDARD
TZOFFSETFROM:-0500
TZOFFSETTO:-0600
TZNAME:CST
DTSTART:20231105T070000
END:STANDARD
END:VTIMEZONE
BEGIN:VEVENT
DTSTART;TZID=America/Chicago:20221008T100000
DTEND;TZID=America/Chicago:20221008T180000
DTSTAMP:20260423T222241
CREATED:20220917T212527Z
LAST-MODIFIED:20220917T212527Z
UID:11137-1665223200-1665252000@lyoncomuseum.org
SUMMARY:Escape the Schoolhouse Fundraiser
DESCRIPTION:Gather family and friends for a team (max. 6 people) and enjoy an escape room challenge in a one room schoolhouse!\nYour team will discover clues\, solve puzzles\, and accomplish tasks to solve the schoolhouse mystery in a limited amount of time.\nCost: $25 per team. $20 per team for LCHS Members.\nTo reserve your time slot\, please call the Lyon County Museum at (507) 537-6580.\nTime slots are on a first come\, first serve basis.\nTime Slots both days:\n10:00-10:30\n10:45-11:15\n11:30-12:00\n12:15-12:45\n1:00-1:30\n1:45-2:15\n2:30-3:00\n3:15-3:45\n4:00-4:30\n4:45-5:15\n5:30-6:00
URL:https://lyoncomuseum.org/event/escape-the-schoolhouse-fundraiser/
LOCATION:Lyon County Fairgrounds\, Fairgrounds Rd\, Marshall\, Minnesota\, 56258
CATEGORIES:Fundraiser
ATTACH;FMTTYPE=image/jpeg:https://lyoncomuseum.org/wp-content/uploads/2022/09/234834242_10165439259170613_6125328252076434122_n.jpg
END:VEVENT
BEGIN:VEVENT
DTSTART;TZID=America/Chicago:20221015T100000
DTEND;TZID=America/Chicago:20221015T180000
DTSTAMP:20260423T222241
CREATED:20220917T212619Z
LAST-MODIFIED:20220917T212619Z
UID:11140-1665828000-1665856800@lyoncomuseum.org
SUMMARY:Escape the Schoolhouse Fundraiser
DESCRIPTION:Gather family and friends for a team (max. 6 people) and enjoy an escape room challenge in a one room schoolhouse!\nYour team will discover clues\, solve puzzles\, and accomplish tasks to solve the schoolhouse mystery in a limited amount of time.\nCost: $25 per team. $20 per team for LCHS Members.\nTo reserve your time slot\, please call the Lyon County Museum at (507) 537-6580.\nTime slots are on a first come\, first serve basis.\nTime Slots both days:\n10:00-10:30\n10:45-11:15\n11:30-12:00\n12:15-12:45\n1:00-1:30\n1:45-2:15\n2:30-3:00\n3:15-3:45\n4:00-4:30\n4:45-5:15\n5:30-6:00
URL:https://lyoncomuseum.org/event/escape-the-schoolhouse-fundraiser-2/
LOCATION:Lyon County Fairgrounds\, Fairgrounds Rd\, Marshall\, Minnesota\, 56258
CATEGORIES:Fundraiser
ATTACH;FMTTYPE=image/jpeg:https://lyoncomuseum.org/wp-content/uploads/2022/09/234834242_10165439259170613_6125328252076434122_n.jpg
END:VEVENT
BEGIN:VEVENT
DTSTART;TZID=America/Chicago:20221029T120000
DTEND;TZID=America/Chicago:20221029T160000
DTSTAMP:20260423T222241
CREATED:20221005T201140Z
LAST-MODIFIED:20221005T201140Z
UID:11324-1667044800-1667059200@lyoncomuseum.org
SUMMARY:Halloween Family Fun Day at the Museum
DESCRIPTION:The Lyon County Museum presents Halloween Family Fun Day at the Museum\, a non-scary Halloween family event. Wear your costumes and be prepared to have fun!\n– Pumpkin Scavenger Hunt\n– Make & Take or Take & Make Crafts\n– Make & Take or Take & Make\nColoring Activities\n– $2.00 Orange or Root Beer Floats\nin the Ice Cream Shop\nAll kids dress in costume will receive a treat bag!
URL:https://lyoncomuseum.org/event/halloween-family-fun-day-at-the-museum-2/
LOCATION:Lyon County Historical Society Museum\, 301 West Lyon Street\, Marshall\, MN\, 56258\, United States
CATEGORIES:Program
ATTACH;FMTTYPE=image/jpeg:https://lyoncomuseum.org/wp-content/uploads/2020/10/Pumpkin-Walk-Photo-scaled.jpg
END:VEVENT
END:VCALENDAR