BEGIN:VCALENDAR
VERSION:2.0
PRODID:-//Lyon County Museum - ECPv6.15.20//NONSGML v1.0//EN
CALSCALE:GREGORIAN
METHOD:PUBLISH
X-ORIGINAL-URL:https://lyoncomuseum.org
X-WR-CALDESC:Events for Lyon County Museum
REFRESH-INTERVAL;VALUE=DURATION:PT1H
X-Robots-Tag:noindex
X-PUBLISHED-TTL:PT1H
BEGIN:VTIMEZONE
TZID:America/Chicago
BEGIN:DAYLIGHT
TZOFFSETFROM:-0600
TZOFFSETTO:-0500
TZNAME:CDT
DTSTART:20210314T080000
END:DAYLIGHT
BEGIN:STANDARD
TZOFFSETFROM:-0500
TZOFFSETTO:-0600
TZNAME:CST
DTSTART:20211107T070000
END:STANDARD
BEGIN:DAYLIGHT
TZOFFSETFROM:-0600
TZOFFSETTO:-0500
TZNAME:CDT
DTSTART:20220313T080000
END:DAYLIGHT
BEGIN:STANDARD
TZOFFSETFROM:-0500
TZOFFSETTO:-0600
TZNAME:CST
DTSTART:20221106T070000
END:STANDARD
BEGIN:DAYLIGHT
TZOFFSETFROM:-0600
TZOFFSETTO:-0500
TZNAME:CDT
DTSTART:20230312T080000
END:DAYLIGHT
BEGIN:STANDARD
TZOFFSETFROM:-0500
TZOFFSETTO:-0600
TZNAME:CST
DTSTART:20231105T070000
END:STANDARD
END:VTIMEZONE
BEGIN:VEVENT
DTSTART;TZID=America/Chicago:20220601T100000
DTEND;TZID=America/Chicago:20220917T160000
DTSTAMP:20260423T201804
CREATED:20220503T211533Z
LAST-MODIFIED:20220503T211533Z
UID:9644-1654077600-1663430400@lyoncomuseum.org
SUMMARY:Wedding Collection Exhibit
DESCRIPTION:The Lyon County Museum proudly presents a temporary exhibit showcasing wedding dresses\, bridesmaid dresses\, other formal wear\, wedding accessories\, and wedding photographs from the museum’s collection and on loan.\nThe exhibit opens on June 1 and will run through September 17. The exhibit is located in the conference room on the 2nd floor of the museum.\nThe museum is closed on Monday\, July 4 and Monday\, September 5.\nFor more information\, please contact the museum at 507-537-6580 or director@lyoncomuseum.org
URL:https://lyoncomuseum.org/event/wedding-collection-exhibit/
LOCATION:Lyon County Historical Society Museum\, 301 West Lyon Street\, Marshall\, MN\, 56258\, United States
CATEGORIES:Exhibit
ATTACH;FMTTYPE=image/jpeg:https://lyoncomuseum.org/wp-content/uploads/2022/05/201625138.jpg
END:VEVENT
BEGIN:VEVENT
DTSTART;TZID=America/Chicago:20220924T140000
DTEND;TZID=America/Chicago:20220924T150000
DTSTAMP:20260423T201804
CREATED:20220913T155448Z
LAST-MODIFIED:20220913T155448Z
UID:11096-1664028000-1664031600@lyoncomuseum.org
SUMMARY:"Sincerely Yours: The Art of Letter Writing"
DESCRIPTION:Jody Mohr will present at the Lyon County Museum\, 301 W Lyon St\, Marshall on Saturday\, September 24 at 2:00 PM.\nThe presentation will be held in the museum’s ice cream shop on the main floor. She will have a show and tell on old fashioned letters and present on the art of letter writing.\nThis event is free and open to the public. Light refreshments will be served.
URL:https://lyoncomuseum.org/event/sincerely-yours-the-art-of-letter-writing/
LOCATION:Lyon County Historical Society Museum\, 301 West Lyon Street\, Marshall\, MN\, 56258\, United States
CATEGORIES:Program
ATTACH;FMTTYPE=image/webp:https://lyoncomuseum.org/wp-content/uploads/2022/09/depositphotos_60182487-stock-photo-woman-writing-a-letter.webp
END:VEVENT
END:VCALENDAR