BEGIN:VCALENDAR
VERSION:2.0
PRODID:-//Lyon County Museum - ECPv6.15.20//NONSGML v1.0//EN
CALSCALE:GREGORIAN
METHOD:PUBLISH
X-WR-CALNAME:Lyon County Museum
X-ORIGINAL-URL:https://lyoncomuseum.org
X-WR-CALDESC:Events for Lyon County Museum
REFRESH-INTERVAL;VALUE=DURATION:PT1H
X-Robots-Tag:noindex
X-PUBLISHED-TTL:PT1H
BEGIN:VTIMEZONE
TZID:America/Chicago
BEGIN:DAYLIGHT
TZOFFSETFROM:-0600
TZOFFSETTO:-0500
TZNAME:CDT
DTSTART:20200308T080000
END:DAYLIGHT
BEGIN:STANDARD
TZOFFSETFROM:-0500
TZOFFSETTO:-0600
TZNAME:CST
DTSTART:20201101T070000
END:STANDARD
BEGIN:DAYLIGHT
TZOFFSETFROM:-0600
TZOFFSETTO:-0500
TZNAME:CDT
DTSTART:20210314T080000
END:DAYLIGHT
BEGIN:STANDARD
TZOFFSETFROM:-0500
TZOFFSETTO:-0600
TZNAME:CST
DTSTART:20211107T070000
END:STANDARD
BEGIN:DAYLIGHT
TZOFFSETFROM:-0600
TZOFFSETTO:-0500
TZNAME:CDT
DTSTART:20220313T080000
END:DAYLIGHT
BEGIN:STANDARD
TZOFFSETFROM:-0500
TZOFFSETTO:-0600
TZNAME:CST
DTSTART:20221106T070000
END:STANDARD
END:VTIMEZONE
BEGIN:VEVENT
DTSTART;TZID=America/Chicago:20211018T080000
DTEND;TZID=America/Chicago:20211213T120000
DTSTAMP:20260423T041749
CREATED:20211018T210938Z
LAST-MODIFIED:20211018T210938Z
UID:8010-1634544000-1639396800@lyoncomuseum.org
SUMMARY:Civil War Reproduction Quilt Raffle
DESCRIPTION:The Lyon County Historical Society is selling quilt raffle tickets at the Lyon County Museum\, 301 W Lyon St\, Marshall.  Tickets are $5.00 each for the chance to win one Civil War reproduction quilt.  The quilt was made and donated by Irene Hudspeth and is on display in the museum’s front entry.  The drawing is Monday\, December 13 at noon.  Proceeds from ticket sales will benefit the District 80 Westerheim Township one-room schoolhouse located at the Lyon County Fairgrounds.  For more information: 507-537-6580.
URL:https://lyoncomuseum.org/event/civil-war-reproduction-quilt-raffle/
LOCATION:Lyon County Historical Society Museum\, 301 West Lyon Street\, Marshall\, MN\, 56258\, United States
CATEGORIES:Fundraiser
ATTACH;FMTTYPE=image/jpeg:https://lyoncomuseum.org/wp-content/uploads/2021/10/2021-10-05-15.30.46-scaled.jpg
END:VEVENT
BEGIN:VEVENT
DTSTART;TZID=America/Chicago:20211120T100000
DTEND;TZID=America/Chicago:20211231T190000
DTSTAMP:20260423T041749
CREATED:20211027T184314Z
LAST-MODIFIED:20211116T185418Z
UID:8097-1637402400-1640977200@lyoncomuseum.org
SUMMARY:The 9th Annual Indoor Christmas Tree Walk
DESCRIPTION:The 9th Annual Indoor Christmas Tree Walk opens at the Lyon County Museum on Saturday\, November 20. The trees and museum will stay decorated through New Year’s Eve. View decorated trees by area families\, businesses\, non-profit organizations\, and service organizations.\n\nTo vote for your favorite(s)\, place money in a box located by each tree. The top 3 organizations/businesses with the most money in their boxes will win the 2021 tree walk.\nThere will be an online option to vote on the museum’s website.\n\nAll proceeds from the boxes will go to benefit the Lyon County Historical Society’s mission of preserving and presenting Lyon County history.\n\n1st\, 2nd and 3rd place prizes will be awarded to the top 3 trees.\n1st prize is $150 in Marshall Chamber Dollars 2nd prize is $100 in Marshall Chamber Dollars 3rd prize is $50 in Marshall Chamber Dollars.\n\nMuseum Hours November 20-December 31:\nMonday-Friday: 10:00 AM to 7:00 PM\nSaturday: 10:00 AM to 5:00 PM\nSunday: Closed\nThe museum is closed on Thursday\, November 25 \nThe museum will close at 5:00 PM on Friday\, November 26 \nThe museum will close at 5:00 PM on Friday\, December 24 \nThe museum is closed on Saturday\, December 25
URL:https://lyoncomuseum.org/event/the-9th-annual-indoor-christmas-tree-walk/
LOCATION:Lyon County Historical Society Museum\, 301 West Lyon Street\, Marshall\, MN\, 56258\, United States
CATEGORIES:Fundraiser
ATTACH;FMTTYPE=image/jpeg:https://lyoncomuseum.org/wp-content/uploads/2021/10/2020-12-09-18.05.07-scaled.jpg
END:VEVENT
BEGIN:VEVENT
DTSTART;TZID=America/Chicago:20211127T100000
DTEND;TZID=America/Chicago:20211127T170000
DTSTAMP:20260423T041749
CREATED:20211109T213301Z
LAST-MODIFIED:20211109T213301Z
UID:8220-1638007200-1638032400@lyoncomuseum.org
SUMMARY:Small Business Saturday Event at the Museum
DESCRIPTION:Specials and Make and Take Craft event on Saturday\, November 27 at the Lyon County Museum:\n– 25% off total gift shop purchase\n– BOGO: buy 1 get 1 Schwan’s ice cream novelty treat free\n– Complementary cookies and hot apple cider\n1:00 PM to 3:00 PM: Make and Take Craft\nMelting Snowman! Join us to make a melting snowman out of putty and the included plastic accessories; then wait as the snowman melts into a puddle of goo. The cost of the kit is $5 each (funds from purchased kits will support programs at the museum)
URL:https://lyoncomuseum.org/event/small-business-saturday-event-at-the-museum/
LOCATION:Lyon County Historical Society Museum\, 301 West Lyon Street\, Marshall\, MN\, 56258\, United States
CATEGORIES:Program
ATTACH;FMTTYPE=image/jpeg:https://lyoncomuseum.org/wp-content/uploads/2021/11/119438566-cute-melted-snowman-vector-illustration-icon-winter-holiday-christmas-funny-snowman-isolated-on-beig.jpg
END:VEVENT
END:VCALENDAR