BEGIN:VCALENDAR
VERSION:2.0
PRODID:-//Lyon County Museum - ECPv6.15.20//NONSGML v1.0//EN
CALSCALE:GREGORIAN
METHOD:PUBLISH
X-WR-CALNAME:Lyon County Museum
X-ORIGINAL-URL:https://lyoncomuseum.org
X-WR-CALDESC:Events for Lyon County Museum
REFRESH-INTERVAL;VALUE=DURATION:PT1H
X-Robots-Tag:noindex
X-PUBLISHED-TTL:PT1H
BEGIN:VTIMEZONE
TZID:America/Chicago
BEGIN:DAYLIGHT
TZOFFSETFROM:-0600
TZOFFSETTO:-0500
TZNAME:CDT
DTSTART:20200308T080000
END:DAYLIGHT
BEGIN:STANDARD
TZOFFSETFROM:-0500
TZOFFSETTO:-0600
TZNAME:CST
DTSTART:20201101T070000
END:STANDARD
BEGIN:DAYLIGHT
TZOFFSETFROM:-0600
TZOFFSETTO:-0500
TZNAME:CDT
DTSTART:20210314T080000
END:DAYLIGHT
BEGIN:STANDARD
TZOFFSETFROM:-0500
TZOFFSETTO:-0600
TZNAME:CST
DTSTART:20211107T070000
END:STANDARD
BEGIN:DAYLIGHT
TZOFFSETFROM:-0600
TZOFFSETTO:-0500
TZNAME:CDT
DTSTART:20220313T080000
END:DAYLIGHT
BEGIN:STANDARD
TZOFFSETFROM:-0500
TZOFFSETTO:-0600
TZNAME:CST
DTSTART:20221106T070000
END:STANDARD
END:VTIMEZONE
BEGIN:VEVENT
DTSTART;TZID=America/Chicago:20210705T110000
DTEND;TZID=America/Chicago:20210705T160000
DTSTAMP:20260422T213817
CREATED:20210628T170334Z
LAST-MODIFIED:20210628T170334Z
UID:7260-1625482800-1625500800@lyoncomuseum.org
SUMMARY:Lyon County Museum Closed July 5
DESCRIPTION:The Lyon County Museum is closed on Monday\, July 5 for Independence Day (Observed)
URL:https://lyoncomuseum.org/event/lyon-county-museum-closed-july-5/
LOCATION:Lyon County Historical Society Museum\, 301 West Lyon Street\, Marshall\, MN\, 56258\, United States
ATTACH;FMTTYPE=image/jpeg:https://lyoncomuseum.org/wp-content/uploads/2021/06/July-4.jpg
END:VEVENT
BEGIN:VEVENT
DTSTART;TZID=America/Chicago:20210715T090000
DTEND;TZID=America/Chicago:20210715T160000
DTSTAMP:20260422T213817
CREATED:20210712T185315Z
LAST-MODIFIED:20210712T185315Z
UID:7356-1626339600-1626364800@lyoncomuseum.org
SUMMARY:Crazy Days at the Lyon County Museum
DESCRIPTION:While shopping downtown Marshall on Thursday for Crazy Days\, stop by the Lyon County Museum for specials. \nSchwan’s Ice Cream Shop Special:\n– $1.00/each Root Beer Float or Orange Float \nMuseum Gift Shop Special:\n– 40% Total Gift Shop Purchase \nCool off in the museum and tour exhibits on the main floor\, lower level\, and 2nd floor.
URL:https://lyoncomuseum.org/event/crazy-days-at-the-lyon-county-museum/
LOCATION:Lyon County Historical Society Museum\, 301 West Lyon Street\, Marshall\, MN\, 56258\, United States
ATTACH;FMTTYPE=image/jpeg:https://lyoncomuseum.org/wp-content/uploads/2021/05/2020-06-25-13.37.38-scaled.jpg
END:VEVENT
END:VCALENDAR