BEGIN:VCALENDAR
VERSION:2.0
PRODID:-//Lyon County Museum - ECPv6.15.20//NONSGML v1.0//EN
CALSCALE:GREGORIAN
METHOD:PUBLISH
X-WR-CALNAME:Lyon County Museum
X-ORIGINAL-URL:https://lyoncomuseum.org
X-WR-CALDESC:Events for Lyon County Museum
REFRESH-INTERVAL;VALUE=DURATION:PT1H
X-Robots-Tag:noindex
X-PUBLISHED-TTL:PT1H
BEGIN:VTIMEZONE
TZID:America/Chicago
BEGIN:DAYLIGHT
TZOFFSETFROM:-0600
TZOFFSETTO:-0500
TZNAME:CDT
DTSTART:20200308T080000
END:DAYLIGHT
BEGIN:STANDARD
TZOFFSETFROM:-0500
TZOFFSETTO:-0600
TZNAME:CST
DTSTART:20201101T070000
END:STANDARD
BEGIN:DAYLIGHT
TZOFFSETFROM:-0600
TZOFFSETTO:-0500
TZNAME:CDT
DTSTART:20210314T080000
END:DAYLIGHT
BEGIN:STANDARD
TZOFFSETFROM:-0500
TZOFFSETTO:-0600
TZNAME:CST
DTSTART:20211107T070000
END:STANDARD
BEGIN:DAYLIGHT
TZOFFSETFROM:-0600
TZOFFSETTO:-0500
TZNAME:CDT
DTSTART:20220313T080000
END:DAYLIGHT
BEGIN:STANDARD
TZOFFSETFROM:-0500
TZOFFSETTO:-0600
TZNAME:CST
DTSTART:20221106T070000
END:STANDARD
END:VTIMEZONE
BEGIN:VEVENT
DTSTART;TZID=America/Chicago:20210301T110000
DTEND;TZID=America/Chicago:20210331T160000
DTSTAMP:20260422T144048
CREATED:20210224T201501Z
LAST-MODIFIED:20210224T201501Z
UID:6401-1614596400-1617206400@lyoncomuseum.org
SUMMARY:A Century of Civic Engagement: League of Women Voters in Minnesota Traveling Exhibit
DESCRIPTION:A new traveling exhibit\, A Century of Civic Engagement: League of Women Voters in Minnesota\, will open at the Lyon County Museum\, 301 W Lyon St\, Marshall on Monday\, March 1. The exhibit will run through March 31. The 12 panel exhibit will be located in the conference room on the 2nd floor of the museum. Museum hours are Monday-Friday 11:00 AM to 4:00 PM and Saturday 12:00 PM to 4:00 PM. For more information\, contact the museum at 507-537-6580.\n\nTo celebrate the 19th Amendment’s centennial year\, LWV Minnesota created a traveling exhibit to recognize the organization’s mission and history over the past century. Exhibit visitors will discover that: “Growing from the deep roots of the suffrage movement in the 19th century\, Minnesota’s non-partisan League of Women Voters uses a statewide network of local chapters to encourage informed and active participation in government\, register\, and empower voters\, work to increase understanding of public policy issues\, cultivate women leaders\, and influence public policy through education and advocacy.”\n\nThe Minnesota Legislature finally voted YES on September 8\, 1919 to ratify the 19th Amendment to the US Constitution\, granting women the right to vote and ending the 72-year struggle for woman suffrage.\n\nBut as distinguished Minnesota suffragist Clara Ueland said that day\, “Today is the commencement rather than the end of our work.” The League of Women Voters Minnesota was born\, with Ms. Ueland as its first President\, to help carry out the new work of empowering voters and defending democracy\, with women now at the table – and in the voting booth. One hundred years later\, LWV Minnesota continues to thrive as a nonprofit\, nonpartisan organization promoting good government and civic engagement throughout Minnesota.\n\nCome visit this vibrant exhibit that features Minnesota’s suffrage story\, highlighting the women who made it happen – and who continue to lead through the League of Women Voters to make democracy work for all.
URL:https://lyoncomuseum.org/event/a-century-of-civic-engagement-league-of-women-voters-in-minnesota-traveling-exhibit/
LOCATION:Lyon County Historical Society Museum\, 301 West Lyon Street\, Marshall\, MN\, 56258\, United States
CATEGORIES:Exhibit
ATTACH;FMTTYPE=image/jpeg:https://lyoncomuseum.org/wp-content/uploads/2021/02/Banners.jpg
END:VEVENT
END:VCALENDAR