BEGIN:VCALENDAR
VERSION:2.0
PRODID:-//Lyon County Museum - ECPv6.15.20//NONSGML v1.0//EN
CALSCALE:GREGORIAN
METHOD:PUBLISH
X-ORIGINAL-URL:https://lyoncomuseum.org
X-WR-CALDESC:Events for Lyon County Museum
REFRESH-INTERVAL;VALUE=DURATION:PT1H
X-Robots-Tag:noindex
X-PUBLISHED-TTL:PT1H
BEGIN:VTIMEZONE
TZID:America/Chicago
BEGIN:DAYLIGHT
TZOFFSETFROM:-0600
TZOFFSETTO:-0500
TZNAME:CDT
DTSTART:20190310T080000
END:DAYLIGHT
BEGIN:STANDARD
TZOFFSETFROM:-0500
TZOFFSETTO:-0600
TZNAME:CST
DTSTART:20191103T070000
END:STANDARD
BEGIN:DAYLIGHT
TZOFFSETFROM:-0600
TZOFFSETTO:-0500
TZNAME:CDT
DTSTART:20200308T080000
END:DAYLIGHT
BEGIN:STANDARD
TZOFFSETFROM:-0500
TZOFFSETTO:-0600
TZNAME:CST
DTSTART:20201101T070000
END:STANDARD
BEGIN:DAYLIGHT
TZOFFSETFROM:-0600
TZOFFSETTO:-0500
TZNAME:CDT
DTSTART:20210314T080000
END:DAYLIGHT
BEGIN:STANDARD
TZOFFSETFROM:-0500
TZOFFSETTO:-0600
TZNAME:CST
DTSTART:20211107T070000
END:STANDARD
END:VTIMEZONE
BEGIN:VEVENT
DTSTART;TZID=America/Chicago:20200810T080000
DTEND;TZID=America/Chicago:20200817T170000
DTSTAMP:20260422T041650
CREATED:20200806T192729Z
LAST-MODIFIED:20200806T192729Z
UID:3634-1597046400-1597683600@lyoncomuseum.org
SUMMARY:Shop Hop through Lyon County
DESCRIPTION:Facebook Event Page: \nhttps://www.facebook.com/events/598427564412121/ \nIt’s time to celebrate the 150th Anniversary of Lyon County! Grab a passport\, which will lead you to the shops and notable landmarks all throughout Lyon County\, and when you stop at the participating locations\, you can mark it off your passport and you’ll be entered to win a prize! \nPassports will be distributed throughout the county with pickup places at:\nMarshall:\n– Lyon County Museum\n– Marshall Area Chamber & Visit Marshall Office\n– Patzer’s Hardware Hank\n– Walnut Grove Mercantile\nMinneota:\n– This & That Recreated\nTracy\n– Midwest Supply \nShop at the stores to get your passport marked and take photos of you and your shopping buddies at the notable historic landmarks. Show us your photos by posting them in this event! Want additional entries in the prize drawing? Keep following this event and see if you can guess the historic places we post about throughout the week! \nTo complete your passport\, stop by at least 8 locations in at least 2 different towns. You can turn the passports in at the Lyon County Museum Book Drop in Marshall. This event will start on Monday\, August 10th and run through the 17th\, so venture out and maybe you’ll visit some place new in Lyon County! Be sure to check each locations posted business hours to plan your shopping stops ahead of time. \nThis event is hosted by Visit Marshall and the Lyon County Historical Society
URL:https://lyoncomuseum.org/event/shop-hop-through-lyon-county/
LOCATION:MN
ATTACH;FMTTYPE=image/jpeg:https://lyoncomuseum.org/wp-content/uploads/2020/08/Shop-Hop-Through-Lyon-County.jpg
END:VEVENT
END:VCALENDAR