BEGIN:VCALENDAR
VERSION:2.0
PRODID:-//Lyon County Museum - ECPv6.15.20//NONSGML v1.0//EN
CALSCALE:GREGORIAN
METHOD:PUBLISH
X-WR-CALNAME:Lyon County Museum
X-ORIGINAL-URL:https://lyoncomuseum.org
X-WR-CALDESC:Events for Lyon County Museum
REFRESH-INTERVAL;VALUE=DURATION:PT1H
X-Robots-Tag:noindex
X-PUBLISHED-TTL:PT1H
BEGIN:VTIMEZONE
TZID:America/Chicago
BEGIN:DAYLIGHT
TZOFFSETFROM:-0600
TZOFFSETTO:-0500
TZNAME:CDT
DTSTART:20190310T080000
END:DAYLIGHT
BEGIN:STANDARD
TZOFFSETFROM:-0500
TZOFFSETTO:-0600
TZNAME:CST
DTSTART:20191103T070000
END:STANDARD
BEGIN:DAYLIGHT
TZOFFSETFROM:-0600
TZOFFSETTO:-0500
TZNAME:CDT
DTSTART:20200308T080000
END:DAYLIGHT
BEGIN:STANDARD
TZOFFSETFROM:-0500
TZOFFSETTO:-0600
TZNAME:CST
DTSTART:20201101T070000
END:STANDARD
BEGIN:DAYLIGHT
TZOFFSETFROM:-0600
TZOFFSETTO:-0500
TZNAME:CDT
DTSTART:20210314T080000
END:DAYLIGHT
BEGIN:STANDARD
TZOFFSETFROM:-0500
TZOFFSETTO:-0600
TZNAME:CST
DTSTART:20211107T070000
END:STANDARD
END:VTIMEZONE
BEGIN:VEVENT
DTSTART;TZID=America/Chicago:20200121T100000
DTEND;TZID=America/Chicago:20200316T170000
DTSTAMP:20260421T194129
CREATED:20200121T220635Z
LAST-MODIFIED:20200317T173728Z
UID:2108-1579600800-1584378000@lyoncomuseum.org
SUMMARY:Community Collection: Snowmen and Father Time Display
DESCRIPTION:The Snowmen and Father Time display includes a vast collection of snowmen and father time collectables from the collection of Mark Schwanebeck.  The display is located in the museum’s Heritage Room exhibit.  The exhibit ends on March 31. \nMuseum Hours: \nMonday: 10:00-5:00 \nTuesday: 10:00-5:00 \nWednesday: 10:00-5:00 \nThursday: 10:00-7:00 \nFriday: 10:00-5:00 \nSaturday: 10:00-5:00 \nSunday: Closed
URL:https://lyoncomuseum.org/event/community-collection-snowmen-and-father-time-display/
LOCATION:Lyon County Historical Society Museum\, 301 West Lyon Street\, Marshall\, MN\, 56258\, United States
CATEGORIES:Exhibit
ATTACH;FMTTYPE=image/jpeg:https://lyoncomuseum.org/wp-content/uploads/2020/01/2020-01-21-02.49.08-scaled.jpg
END:VEVENT
BEGIN:VEVENT
DTSTART;TZID=America/Chicago:20200121T100000
DTEND;TZID=America/Chicago:20200316T170000
DTSTAMP:20260421T194129
CREATED:20200121T221012Z
LAST-MODIFIED:20200317T173749Z
UID:2111-1579600800-1584378000@lyoncomuseum.org
SUMMARY:Community Collection: How to Talk Minnesotan Display
DESCRIPTION:The How to Talk Minnesotan display includes books\, posters\, and other mementos related to the book and musical\, How to Talk Minnesotan from the collection of Howard and Jody Mohr.  The display is located in the museum’s entry.  The exhibit ends on March 31. \nMuseum Hours: \nMonday: 10:00-5:00 \nTuesday: 10:00-5:00 \nWednesday: 10:00-5:00 \nThursday: 10:00-7:00 \nFriday: 10:00-5:00 \nSaturday: 10:00-5:00 \nSunday: Closed
URL:https://lyoncomuseum.org/event/community-collection-how-to-talk-minnesotan-display/
LOCATION:Lyon County Historical Society Museum\, 301 West Lyon Street\, Marshall\, MN\, 56258\, United States
CATEGORIES:Exhibit
ATTACH;FMTTYPE=image/jpeg:https://lyoncomuseum.org/wp-content/uploads/2020/01/2020-01-21-02.47.00-scaled.jpg
END:VEVENT
BEGIN:VEVENT
DTSTART;TZID=America/Chicago:20200317T100000
DTEND;TZID=America/Chicago:20200628T170000
DTSTAMP:20260421T194129
CREATED:20200317T174005Z
LAST-MODIFIED:20200608T160728Z
UID:2332-1584439200-1593363600@lyoncomuseum.org
SUMMARY:Lyon County Museum Closed
DESCRIPTION:The Lyon County Museum will be closed to the public until further notice. Email and phone messages will still be answered.
URL:https://lyoncomuseum.org/event/lyon-county-museum-closed/
LOCATION:Lyon County Historical Society Museum\, 301 West Lyon Street\, Marshall\, MN\, 56258\, United States
ATTACH;FMTTYPE=image/jpeg:https://lyoncomuseum.org/wp-content/uploads/2017/07/Logo-No-Background-e1499880901200.jpg
END:VEVENT
END:VCALENDAR