BEGIN:VCALENDAR
VERSION:2.0
PRODID:-//Lyon County Museum - ECPv6.15.20//NONSGML v1.0//EN
CALSCALE:GREGORIAN
METHOD:PUBLISH
X-ORIGINAL-URL:https://lyoncomuseum.org
X-WR-CALDESC:Events for Lyon County Museum
REFRESH-INTERVAL;VALUE=DURATION:PT1H
X-Robots-Tag:noindex
X-PUBLISHED-TTL:PT1H
BEGIN:VTIMEZONE
TZID:America/Chicago
BEGIN:DAYLIGHT
TZOFFSETFROM:-0600
TZOFFSETTO:-0500
TZNAME:CDT
DTSTART:20180311T080000
END:DAYLIGHT
BEGIN:STANDARD
TZOFFSETFROM:-0500
TZOFFSETTO:-0600
TZNAME:CST
DTSTART:20181104T070000
END:STANDARD
BEGIN:DAYLIGHT
TZOFFSETFROM:-0600
TZOFFSETTO:-0500
TZNAME:CDT
DTSTART:20190310T080000
END:DAYLIGHT
BEGIN:STANDARD
TZOFFSETFROM:-0500
TZOFFSETTO:-0600
TZNAME:CST
DTSTART:20191103T070000
END:STANDARD
BEGIN:DAYLIGHT
TZOFFSETFROM:-0600
TZOFFSETTO:-0500
TZNAME:CDT
DTSTART:20200308T080000
END:DAYLIGHT
BEGIN:STANDARD
TZOFFSETFROM:-0500
TZOFFSETTO:-0600
TZNAME:CST
DTSTART:20201101T070000
END:STANDARD
END:VTIMEZONE
BEGIN:VEVENT
DTSTART;TZID=America/Chicago:20191102T103000
DTEND;TZID=America/Chicago:20191102T120000
DTSTAMP:20260421T124813
CREATED:20191016T210326Z
LAST-MODIFIED:20191016T210326Z
UID:1947-1572690600-1572696000@lyoncomuseum.org
SUMMARY:Time Travelers: Thankful: History of Veteran's Day
DESCRIPTION:Time Travelers takes place on a Saturday\, October-May\, at the Lyon County Museum from 10:30 am – 12:00 pm. The themes and activities are related to history and LCHS exhibits and collections. Time Travelers is targeted to students in kindergarten through 6th grade and their families\, but is open to all ages. \nCost: Classes are free. Sign up is recommended\, but not required by calling 537-6580 or email director@lyoncomuseum.org the Friday before the class. \nNovember Theme: Thankful: History of Veteran’s Day\nLearn about the history of Veterans’ Day and participate in a fun activity to thank veterans for their service.
URL:https://lyoncomuseum.org/event/time-travelers-thankful-history-of-veterans-day/
LOCATION:Lyon County Historical Society Museum\, 301 West Lyon Street\, Marshall\, MN\, 56258\, United States
CATEGORIES:Program
ATTACH;FMTTYPE=image/jpeg:https://lyoncomuseum.org/wp-content/uploads/2019/10/Time-Travelers-Photograph.jpg
END:VEVENT
BEGIN:VEVENT
DTSTART;TZID=America/Chicago:20191116T100000
DTEND;TZID=America/Chicago:20191231T170000
DTSTAMP:20260421T124813
CREATED:20191028T175731Z
LAST-MODIFIED:20191028T175731Z
UID:1977-1573898400-1577811600@lyoncomuseum.org
SUMMARY:The 7th Annual Indoor Christmas Tree Walk
DESCRIPTION:The 7th Annual Indoor Christmas Tree Walk opens at the Lyon County Museum on Saturday\, November 16.  The tree walk ends on December 31.  View decorated trees by individuals\, non-profit organizations\, businesses\, and service organizations. \nTo vote for you favorite(s)\, place money in a box located by each tree.  The top 3 groups with the most money in their box will win the 2019 tree walk.  They will receive Marshall Chamber dollars. \nAll proceeds from the boxes will go to benefit the Lyon County Historical Society’s mission of preserving and presenting Lyon County history. \nThe trees are available to view during regular museum hours: \nMonday\, Tuesday\, Wednesday\, Friday: 10:00-5:00 \nThursday: 10:00-7:00 \nSaturday: 10:00-4:00 \nSunday: Closed \nThe museum is closed on November 28 & 29 and December 25
URL:https://lyoncomuseum.org/event/the-7th-annual-indoor-christmas-tree-walk/
LOCATION:Lyon County Historical Society Museum\, 301 West Lyon Street\, Marshall\, MN\, 56258\, United States
CATEGORIES:Program
ATTACH;FMTTYPE=image/jpeg:https://lyoncomuseum.org/wp-content/uploads/2019/10/2018-11-19-12.51.39.jpg
END:VEVENT
END:VCALENDAR