BEGIN:VCALENDAR
VERSION:2.0
PRODID:-//Lyon County Museum - ECPv6.15.20//NONSGML v1.0//EN
CALSCALE:GREGORIAN
METHOD:PUBLISH
X-WR-CALNAME:Lyon County Museum
X-ORIGINAL-URL:https://lyoncomuseum.org
X-WR-CALDESC:Events for Lyon County Museum
REFRESH-INTERVAL;VALUE=DURATION:PT1H
X-Robots-Tag:noindex
X-PUBLISHED-TTL:PT1H
BEGIN:VTIMEZONE
TZID:America/Chicago
BEGIN:DAYLIGHT
TZOFFSETFROM:-0600
TZOFFSETTO:-0500
TZNAME:CDT
DTSTART:20180311T080000
END:DAYLIGHT
BEGIN:STANDARD
TZOFFSETFROM:-0500
TZOFFSETTO:-0600
TZNAME:CST
DTSTART:20181104T070000
END:STANDARD
BEGIN:DAYLIGHT
TZOFFSETFROM:-0600
TZOFFSETTO:-0500
TZNAME:CDT
DTSTART:20190310T080000
END:DAYLIGHT
BEGIN:STANDARD
TZOFFSETFROM:-0500
TZOFFSETTO:-0600
TZNAME:CST
DTSTART:20191103T070000
END:STANDARD
BEGIN:DAYLIGHT
TZOFFSETFROM:-0600
TZOFFSETTO:-0500
TZNAME:CDT
DTSTART:20200308T080000
END:DAYLIGHT
BEGIN:STANDARD
TZOFFSETFROM:-0500
TZOFFSETTO:-0600
TZNAME:CST
DTSTART:20201101T070000
END:STANDARD
END:VTIMEZONE
BEGIN:VEVENT
DTSTART;TZID=America/Chicago:20190401T080000
DTEND;TZID=America/Chicago:20190615T170000
DTSTAMP:20260421T234845
CREATED:20190430T215750Z
LAST-MODIFIED:20190430T215750Z
UID:1689-1554105600-1560618000@lyoncomuseum.org
SUMMARY:Pipe Collection Exhibit
DESCRIPTION:Mark Schwanebeck is sharing a portion of his pipe collection at the Lyon County Museum on display now through June 15. The collection is located in the museum’s Heritage Room on the main floor of the museum. The exhibit was put together by volunteers\, Ann Carrow\, Beverly Kenyon\, and Barb Zick. \nThe exhibit features a wide array of collectible items featuring pipes and pipe accents. The collection includes figurines\, pictures\, dishes\, flower vases\, and many more interesting items… \nThe reception and program is free and open to the public. Light refreshments will be served. \nThis exhibit is the first of collections displays to be featured at the Lyon County Museum. \nThe pipe collection is on display now through June 15\, so be sure to check it out! \nThe museum’s hours are: \nMonday: 10:00-5:00\, Tuesday: 10:00-5:00\, Wednesday: 10:00-5:00\, Thursday: 10:00-7:00\, Friday: 10:00-5:00\, and Saturday: 10:00-4:00
URL:https://lyoncomuseum.org/event/pipe-collection-exhibit/
LOCATION:Lyon County Historical Society Museum\, 301 West Lyon Street\, Marshall\, MN\, 56258\, United States
CATEGORIES:Exhibit
ATTACH;FMTTYPE=image/jpeg:https://lyoncomuseum.org/wp-content/uploads/2019/04/2019-04-26-19.09.56.jpg
END:VEVENT
BEGIN:VEVENT
DTSTART;TZID=America/Chicago:20190509T140000
DTEND;TZID=America/Chicago:20190509T170000
DTSTAMP:20260421T234845
CREATED:20190409T165429Z
LAST-MODIFIED:20190409T165429Z
UID:1633-1557410400-1557421200@lyoncomuseum.org
SUMMARY:Ice Cream Shop Floats Special
DESCRIPTION:May is Minnesota Museums Month! To celebrate\, the Lyon County Museum is running a special on Schwan’s ice cream floats on May 9 and May 23. \nOn Thursday\, May 9 and Thursday\, May 23 from 2:00 pm – 5:00 pm\, Schwans’ root beer or orange floats are $1.00 each in the the museum’s ice cream shop.
URL:https://lyoncomuseum.org/event/ice-cream-shop-floats-special/
LOCATION:Lyon County Historical Society Museum\, 301 West Lyon Street\, Marshall\, MN\, 56258\, United States
CATEGORIES:Program
ATTACH;FMTTYPE=image/jpeg:https://lyoncomuseum.org/wp-content/uploads/2019/04/014.jpg
END:VEVENT
BEGIN:VEVENT
DTSTART;TZID=America/Chicago:20190509T183000
DTEND;TZID=America/Chicago:20190509T193000
DTSTAMP:20260421T234845
CREATED:20190409T164854Z
LAST-MODIFIED:20190409T164854Z
UID:1627-1557426600-1557430200@lyoncomuseum.org
SUMMARY:WWII Prisoner of War Camps in Southern Minnesota
DESCRIPTION:Colleen Gengler will present on what camp life was like in three Prisoner of War camps in southern Minnesota including Fairmont\, New Ulm\, and Owatonna during the Second World War. \nGengler’s interest in the topic comes from her parents’ use of POW labor on their farm south of Owatonna during the war years. In presentations of her family memoir\, “Under Minnesota Skies\,” the story of her father’s experience with POWs always generated questions and comments from many people who are not familiar with this part of Minnesota’ history. \nFrom new research\, Gengler will share stories from southern Minnesota camps as well as a few others and give background on WWII POWs in the United States. Minnesota had 19 branch camps overseen by the base camp at Algona\, Iowa. \nThis program is free and open to the public. Light refreshments will be served.
URL:https://lyoncomuseum.org/event/wwii-prisoner-of-war-camps-in-southern-minnesota/
LOCATION:Lyon County Historical Society Museum\, 301 West Lyon Street\, Marshall\, MN\, 56258\, United States
CATEGORIES:Program
ATTACH;FMTTYPE=image/jpeg:https://lyoncomuseum.org/wp-content/uploads/2019/04/Publication1-2.jpg
END:VEVENT
BEGIN:VEVENT
DTSTART;TZID=America/Chicago:20190520T183000
DTEND;TZID=America/Chicago:20190520T200000
DTSTAMP:20260421T234845
CREATED:20190409T171827Z
LAST-MODIFIED:20190409T171827Z
UID:1643-1558377000-1558382400@lyoncomuseum.org
SUMMARY:Lyon County's 150th Anniversary Planning Committee Meeting
DESCRIPTION:Lyon County’s sesquicentennial is coming up in 2020. The Lyon County Museum\, 301 W Lyon Street\, Marshall is hosting planning committee meetings on the 3rd Monday of the month. If you are interested in planning activities and a celebration for Lyon County’s 150th anniversary\, attend to find out more information. \nIf you are unable to attend the meeting\, but would like to get involved\, please contact Jennifer Andries at 507-537-6580 or director@lyoncomuseum.org
URL:https://lyoncomuseum.org/event/lyon-countys-150th-anniversary-planning-committee-meeting-3/
LOCATION:Lyon County Historical Society Museum\, 301 West Lyon Street\, Marshall\, MN\, 56258\, United States
CATEGORIES:Meeting
ATTACH;FMTTYPE=image/gif:https://lyoncomuseum.org/wp-content/uploads/2018/04/lyon.gif
END:VEVENT
BEGIN:VEVENT
DTSTART;TZID=America/Chicago:20190521T183000
DTEND;TZID=America/Chicago:20190521T193000
DTSTAMP:20260421T234845
CREATED:20190409T165158Z
LAST-MODIFIED:20190409T165158Z
UID:1630-1558463400-1558467000@lyoncomuseum.org
SUMMARY:Caring for and Reading Old Photographs
DESCRIPTION:Lyon County Historical Society Executive Director\, Jennifer Andries\, will give a presentation on Caring for and Reading Old Photographs. Learn how to read old photographs as well as the care\, handling\, and storage of old photographs. Please bring in your own photographs for discussion and learn how to properly preserve them for future generations to enjoy. \nThe program is free and open to the public. Light refreshments will be served.
URL:https://lyoncomuseum.org/event/caring-for-and-reading-old-photographs/
LOCATION:Lyon County Historical Society Museum\, 301 West Lyon Street\, Marshall\, MN\, 56258\, United States
CATEGORIES:Program
ATTACH;FMTTYPE=image/jpeg:https://lyoncomuseum.org/wp-content/uploads/2019/04/E.M.-Carver-Cabinet-Card.jpg
END:VEVENT
BEGIN:VEVENT
DTSTART;TZID=America/Chicago:20190522T180000
DTEND;TZID=America/Chicago:20190522T193000
DTSTAMP:20260421T234845
CREATED:20190427T020153Z
LAST-MODIFIED:20190427T020153Z
UID:1679-1558548000-1558553400@lyoncomuseum.org
SUMMARY:Pipe Collection Exhibit Reception and Program
DESCRIPTION:Doors open at 6:00 pm to view the new exhibit featuring the pipe collection of Mark Schwanebeck. Mark will talk about his pipe collection at 6:30 pm. \nMark is sharing a portion of his pipe collection at the Lyon County Museum on display now through June 15. The collection is located in the museum’s Heritage Room on the main floor of the museum. The exhibit was put together by volunteers\, Ann Carrow\, Beverly Kenyon\, and Barb Zick. \nThe exhibit features a wide array of collectible items featuring pipes and pipe accents. The collection includes figurines\, pictures\, dishes\, flower vases\, and many more interesting items… \nThe reception and program is free and open to the public. Light refreshments will be served. \nThis exhibit is the first of collections displays to be featured at the Lyon County Museum. \nThe collection is on display now through June 15\, so be sure to check it out!
URL:https://lyoncomuseum.org/event/pipe-collection-exhibit-reception-and-program/
LOCATION:Lyon County Historical Society Museum\, 301 West Lyon Street\, Marshall\, MN\, 56258\, United States
CATEGORIES:Program
ATTACH;FMTTYPE=image/jpeg:https://lyoncomuseum.org/wp-content/uploads/2019/04/2019-04-26-19.10.43.jpg
END:VEVENT
BEGIN:VEVENT
DTSTART;TZID=America/Chicago:20190523T140000
DTEND;TZID=America/Chicago:20190523T170000
DTSTAMP:20260421T234845
CREATED:20190409T165527Z
LAST-MODIFIED:20190409T165527Z
UID:1636-1558620000-1558630800@lyoncomuseum.org
SUMMARY:Ice Cream Shop Floats Special
DESCRIPTION:May is Minnesota Museums Month! To celebrate\, the Lyon County Museum is running a special on Schwan’s ice cream floats on May 9 and May 23. \nOn Thursday\, May 9 and Thursday\, May 23 from 2:00 pm – 5:00 pm\, Schwans’ root beer or orange floats are $1.00 each in the the museum’s ice cream shop.
URL:https://lyoncomuseum.org/event/ice-cream-shop-floats-special-2/
LOCATION:Lyon County Historical Society Museum\, 301 West Lyon Street\, Marshall\, MN\, 56258\, United States
CATEGORIES:Program
ATTACH;FMTTYPE=image/jpeg:https://lyoncomuseum.org/wp-content/uploads/2019/04/014.jpg
END:VEVENT
BEGIN:VEVENT
DTSTART;TZID=America/Chicago:20190527T100000
DTEND;TZID=America/Chicago:20190527T170000
DTSTAMP:20260421T234845
CREATED:20190409T172252Z
LAST-MODIFIED:20190409T172305Z
UID:1647-1558951200-1558976400@lyoncomuseum.org
SUMMARY:Museum Closed for Memorial Day
DESCRIPTION:The Lyon County Museum is closed on Monday\, May 27 for Memorial Day.
URL:https://lyoncomuseum.org/event/museum-closed-for-memorial-day/
LOCATION:Lyon County Historical Society Museum\, 301 West Lyon Street\, Marshall\, MN\, 56258\, United States
ATTACH;FMTTYPE=image/jpeg:https://lyoncomuseum.org/wp-content/uploads/2017/07/Flag-Pole.jpg
END:VEVENT
BEGIN:VEVENT
DTSTART;TZID=America/Chicago:20190528T183000
DTEND;TZID=America/Chicago:20190528T193000
DTSTAMP:20260421T234845
CREATED:20190417T163447Z
LAST-MODIFIED:20190417T171240Z
UID:1659-1559068200-1559071800@lyoncomuseum.org
SUMMARY:A Look Back at the 1950's Presentation by Lloyd Petersen
DESCRIPTION:Lloyd Petersen will present on the era of Rock and Roll\, poodle skirts\, the Cold War\, and more.  The presentation will be held in the Lyon County Museum’s Schwan’s Ice Cream Shop. \nFree and open to the public.  Light refreshments will be served.
URL:https://lyoncomuseum.org/event/a-look-back-at-the-1950s-presentation-by-lloyd-petersen/
LOCATION:Lyon County Historical Society Museum\, 301 West Lyon Street\, Marshall\, MN\, 56258\, United States
CATEGORIES:Program
ATTACH;FMTTYPE=image/jpeg:https://lyoncomuseum.org/wp-content/uploads/2018/05/Sock-Hop.jpg
END:VEVENT
BEGIN:VEVENT
DTSTART;TZID=America/Chicago:20190530T183000
DTEND;TZID=America/Chicago:20190530T193000
DTSTAMP:20260421T234845
CREATED:20190409T165729Z
LAST-MODIFIED:20190409T165729Z
UID:1638-1559241000-1559244600@lyoncomuseum.org
SUMMARY:Beneath the Same Stars: Fictionalizing the 1862 U.S. Dakota War
DESCRIPTION:In this captivating multimedia presentation Cole-Dai will tell a few stories behind her writing of the novel. She’ll lead her audience on a journey from a family cemetery in a dense woods in North Kingstown\, Rhode Island; to the ruins of the Upper Sioux Agency near Granite Falls\, Minnesota; to the kitchen table of a Dakota elder in Peever\, South Dakota…. Along the way she’ll explore a largely forgotten history that still haunts this region of the country. \nAbout the Author\nOriginally from Ohio\, Phyllis Cole-Dai now resides with her scientist-husband\, teenage son and two cats in a cozy 120-year-old house in Brookings\, South Dakota. She has authored or edited nine books in multiple genres as well as four music albums. Her most recent book is Beneath the Same Stars\, a novel of the 1862 U.S.-Dakota War. Get a free sampler of her writing and music by joining her mailing list at phylliscoledai.com. \nThis program is free and open to the public. Light refreshments will be served.
URL:https://lyoncomuseum.org/event/beneath-the-same-stars-fictionalizing-the-1862-u-s-dakota-war/
LOCATION:Lyon County Historical Society Museum\, 301 West Lyon Street\, Marshall\, MN\, 56258\, United States
CATEGORIES:Program
ATTACH;FMTTYPE=image/jpeg:https://lyoncomuseum.org/wp-content/uploads/2019/04/Publication2.jpg
END:VEVENT
END:VCALENDAR