BEGIN:VCALENDAR
VERSION:2.0
PRODID:-//Lyon County Museum - ECPv6.15.20//NONSGML v1.0//EN
CALSCALE:GREGORIAN
METHOD:PUBLISH
X-ORIGINAL-URL:https://lyoncomuseum.org
X-WR-CALDESC:Events for Lyon County Museum
REFRESH-INTERVAL;VALUE=DURATION:PT1H
X-Robots-Tag:noindex
X-PUBLISHED-TTL:PT1H
BEGIN:VTIMEZONE
TZID:America/Chicago
BEGIN:DAYLIGHT
TZOFFSETFROM:-0600
TZOFFSETTO:-0500
TZNAME:CDT
DTSTART:20170312T080000
END:DAYLIGHT
BEGIN:STANDARD
TZOFFSETFROM:-0500
TZOFFSETTO:-0600
TZNAME:CST
DTSTART:20171105T070000
END:STANDARD
BEGIN:DAYLIGHT
TZOFFSETFROM:-0600
TZOFFSETTO:-0500
TZNAME:CDT
DTSTART:20180311T080000
END:DAYLIGHT
BEGIN:STANDARD
TZOFFSETFROM:-0500
TZOFFSETTO:-0600
TZNAME:CST
DTSTART:20181104T070000
END:STANDARD
BEGIN:DAYLIGHT
TZOFFSETFROM:-0600
TZOFFSETTO:-0500
TZNAME:CDT
DTSTART:20190310T080000
END:DAYLIGHT
BEGIN:STANDARD
TZOFFSETFROM:-0500
TZOFFSETTO:-0600
TZNAME:CST
DTSTART:20191103T070000
END:STANDARD
END:VTIMEZONE
BEGIN:VEVENT
DTSTART;TZID=America/Chicago:20180614T100000
DTEND;TZID=America/Chicago:20180908T160000
DTSTAMP:20260422T174707
CREATED:20180611T211658Z
LAST-MODIFIED:20180611T211658Z
UID:1238-1528970400-1536422400@lyoncomuseum.org
SUMMARY:Symbol of Freedom Traveling Exhibit
DESCRIPTION:The traveling exhibit\, Symbol of Freedom\, opens June 14 at the Lyon County Museum\, 301 W Lyon St\, Marshall.  The exhibit runs until September 8.  The traveling exhibit was organized by the Siouxland Heritage Museums\, Sioux Falls\, SD.  For more info: 507-537-6580 or director@lyoncomuseum.org \nThe flag stands for our past\, our present\, and our future.  It represents our principles\, our freedoms\, and our opportunities.  It honors our heritage\, our diversity\, and our unity.  Our flag is a symbol of everything that is America.  But how did it get to be what it is? This exhibit was organized by the Siouxland Heritage Museums in Sioux Falls S.D. Funding was provided by the Mary Chilton Chapter of the National Society Daughters of the American Revolution through the Mary Chilton DAR Foundation\, Sioux Falls\, S.D.
URL:https://lyoncomuseum.org/event/symbol-of-freedom-traveling-exhibit/
LOCATION:Lyon County Historical Society Museum\, 301 West Lyon Street\, Marshall\, MN\, 56258\, United States
CATEGORIES:Traveling Exhibit
ATTACH;FMTTYPE=image/jpeg:https://lyoncomuseum.org/wp-content/uploads/2018/06/Flag-exhibit-poster.jpg
END:VEVENT
END:VCALENDAR