BEGIN:VCALENDAR
VERSION:2.0
PRODID:-//Lyon County Museum - ECPv6.15.20//NONSGML v1.0//EN
CALSCALE:GREGORIAN
METHOD:PUBLISH
X-ORIGINAL-URL:https://lyoncomuseum.org
X-WR-CALDESC:Events for Lyon County Museum
REFRESH-INTERVAL;VALUE=DURATION:PT1H
X-Robots-Tag:noindex
X-PUBLISHED-TTL:PT1H
BEGIN:VTIMEZONE
TZID:America/Chicago
BEGIN:DAYLIGHT
TZOFFSETFROM:-0600
TZOFFSETTO:-0500
TZNAME:CDT
DTSTART:20170312T080000
END:DAYLIGHT
BEGIN:STANDARD
TZOFFSETFROM:-0500
TZOFFSETTO:-0600
TZNAME:CST
DTSTART:20171105T070000
END:STANDARD
BEGIN:DAYLIGHT
TZOFFSETFROM:-0600
TZOFFSETTO:-0500
TZNAME:CDT
DTSTART:20180311T080000
END:DAYLIGHT
BEGIN:STANDARD
TZOFFSETFROM:-0500
TZOFFSETTO:-0600
TZNAME:CST
DTSTART:20181104T070000
END:STANDARD
BEGIN:DAYLIGHT
TZOFFSETFROM:-0600
TZOFFSETTO:-0500
TZNAME:CDT
DTSTART:20190310T080000
END:DAYLIGHT
BEGIN:STANDARD
TZOFFSETFROM:-0500
TZOFFSETTO:-0600
TZNAME:CST
DTSTART:20191103T070000
END:STANDARD
END:VTIMEZONE
BEGIN:VEVENT
DTSTART;TZID=America/Chicago:20180301T100000
DTEND;TZID=America/Chicago:20180601T170000
DTSTAMP:20260422T232553
CREATED:20180202T003623Z
LAST-MODIFIED:20180202T003623Z
UID:1127-1519898400-1527872400@lyoncomuseum.org
SUMMARY:BOYS IN BLUE: The Grand Army of the Republic Traveling Exhibit
DESCRIPTION:The traveling exhibit\, BOYS IN BLUE: The Grand Army of the Republic\, A Civil War Veterans’ Organization opens March 1 at the Lyon County Museum.  The exhibit runs until June 1.  The traveling exhibit was organized by the Siouxland Heritage Museums\, Sioux Falls\, SD. \nA year after our nation’s Civil War ended\, an organization for Union veterans was established. Exploring bonds of comradeship\, loyalty\, and charity\, the Grand Army of the Republic (G.A.R.) became a fraternal group which stretched across local\, regional\, and national lines. Limited in membership to those men who served between 1861-1865\, the G.A.R. had a finite life. The men of the G.A.R. left a lasting legacy to the nation with the creation of veteran pensions\, soldiers’ homes\, and Memorial Day being among their many accomplishments. Counting approximately one million members throughout its existence\, the G.A.R. developed into a formidable political lobbying group. \nBOYS IN BLUE highlights the legacy of this important group that set the precedent for future veterans’ organizations.
URL:https://lyoncomuseum.org/event/boys-blue-grand-army-republic-traveling-exhibit/
LOCATION:Lyon County Historical Society Museum\, 301 West Lyon Street\, Marshall\, MN\, 56258\, United States
CATEGORIES:Traveling Exhibit
ATTACH;FMTTYPE=image/jpeg:https://lyoncomuseum.org/wp-content/uploads/2018/02/GAR-logo.jpg
END:VEVENT
BEGIN:VEVENT
DTSTART;TZID=America/Chicago:20180409T180000
DTEND;TZID=America/Chicago:20180409T193000
DTSTAMP:20260422T232553
CREATED:20180305T185100Z
LAST-MODIFIED:20180315T212028Z
UID:1152-1523296800-1523302200@lyoncomuseum.org
SUMMARY:History of the Grand Army of the Republic Program
DESCRIPTION:On Monday\, April 9 at 6:30pm\, Dr. Lloyd Petersen will present on the history of the Grand Army of the Republic.  Doors open at 6:00pm.  This is a free event and light refreshments will be served. \nThis program is in conjunction with the traveling exhibit\, Boys in Blue: The Grand Army of the Republic\, A Civil War Veterans’ Organization\, which opened on March 1 and runs until June 1. \nThe traveling exhibit was organized by Siouxland Heritage Museums\, Sioux Falls\, SD. \n 
URL:https://lyoncomuseum.org/event/history-grand-army-republic-program/
LOCATION:MN
CATEGORIES:Program
ATTACH;FMTTYPE=image/jpeg:https://lyoncomuseum.org/wp-content/uploads/2018/03/Boys-in-Blue-Poster-NEW-DATE.jpg
END:VEVENT
BEGIN:VEVENT
DTSTART;TZID=America/Chicago:20180428T100000
DTEND;TZID=America/Chicago:20180428T150000
DTSTAMP:20260422T232553
CREATED:20180404T233207Z
LAST-MODIFIED:20180418T182552Z
UID:1171-1524909600-1524927600@lyoncomuseum.org
SUMMARY:Museum Expo
DESCRIPTION:The Lyon County Museum\, 301 W Lyon Street\, Marshall is hosting the 3rd Annual Museum Expo\, “Your Passport to Summer Fun!” on Saturday\, April 28 at 10:00-3:00. \nPlan your summer road trip by learning about the rich history in southwest Minnesota. Visit with area historical societies and museums and learn more about what they have to offer.  \nAt the Museum Expo\, there will be specials on Schwan’s ice cream floats and sundaes\, scavenger hunts in the museum\, door prizes\, and more.  \nParticipating museums: \nBalaton Area Historical Society\, Balaton \nCottonwood County Historical Society\, Windom \nEnd-O-Line Railroad Park and Museum\, Currie \nLincoln County Historical Society\, Hendricks \nLucan Area Historical Society\, Lucan \nMurray County Historical Society\, Slayton \nRenville County Historical Society\, Morton \nVietnam Memorial & History Center\, Minneota \nWheels Across the Prairie Museum\, Tracy \n  \nFor more information on the Museum Expo\, please contact Jennifer at the Lyon County Museum 507-537-6580 or director@lyoncomuseum.org \n 
URL:https://lyoncomuseum.org/event/museum-expo/
LOCATION:Lyon County Historical Society Museum\, 301 West Lyon Street\, Marshall\, MN\, 56258\, United States
CATEGORIES:Program
ATTACH;FMTTYPE=application/pdf:https://lyoncomuseum.org/wp-content/uploads/2018/04/LCHS_MuseumExpo_poster2018.pdf
END:VEVENT
END:VCALENDAR