BEGIN:VCALENDAR
VERSION:2.0
PRODID:-//Lyon County Museum - ECPv6.15.20//NONSGML v1.0//EN
CALSCALE:GREGORIAN
METHOD:PUBLISH
X-ORIGINAL-URL:https://lyoncomuseum.org
X-WR-CALDESC:Events for Lyon County Museum
REFRESH-INTERVAL;VALUE=DURATION:PT1H
X-Robots-Tag:noindex
X-PUBLISHED-TTL:PT1H
BEGIN:VTIMEZONE
TZID:America/Chicago
BEGIN:DAYLIGHT
TZOFFSETFROM:-0600
TZOFFSETTO:-0500
TZNAME:CDT
DTSTART:20170312T080000
END:DAYLIGHT
BEGIN:STANDARD
TZOFFSETFROM:-0500
TZOFFSETTO:-0600
TZNAME:CST
DTSTART:20171105T070000
END:STANDARD
BEGIN:DAYLIGHT
TZOFFSETFROM:-0600
TZOFFSETTO:-0500
TZNAME:CDT
DTSTART:20180311T080000
END:DAYLIGHT
BEGIN:STANDARD
TZOFFSETFROM:-0500
TZOFFSETTO:-0600
TZNAME:CST
DTSTART:20181104T070000
END:STANDARD
BEGIN:DAYLIGHT
TZOFFSETFROM:-0600
TZOFFSETTO:-0500
TZNAME:CDT
DTSTART:20190310T080000
END:DAYLIGHT
BEGIN:STANDARD
TZOFFSETFROM:-0500
TZOFFSETTO:-0600
TZNAME:CST
DTSTART:20191103T070000
END:STANDARD
END:VTIMEZONE
BEGIN:VEVENT
DTSTART;TZID=America/Chicago:20180301T100000
DTEND;TZID=America/Chicago:20180601T170000
DTSTAMP:20260423T010821
CREATED:20180202T003623Z
LAST-MODIFIED:20180202T003623Z
UID:1127-1519898400-1527872400@lyoncomuseum.org
SUMMARY:BOYS IN BLUE: The Grand Army of the Republic Traveling Exhibit
DESCRIPTION:The traveling exhibit\, BOYS IN BLUE: The Grand Army of the Republic\, A Civil War Veterans’ Organization opens March 1 at the Lyon County Museum.  The exhibit runs until June 1.  The traveling exhibit was organized by the Siouxland Heritage Museums\, Sioux Falls\, SD. \nA year after our nation’s Civil War ended\, an organization for Union veterans was established. Exploring bonds of comradeship\, loyalty\, and charity\, the Grand Army of the Republic (G.A.R.) became a fraternal group which stretched across local\, regional\, and national lines. Limited in membership to those men who served between 1861-1865\, the G.A.R. had a finite life. The men of the G.A.R. left a lasting legacy to the nation with the creation of veteran pensions\, soldiers’ homes\, and Memorial Day being among their many accomplishments. Counting approximately one million members throughout its existence\, the G.A.R. developed into a formidable political lobbying group. \nBOYS IN BLUE highlights the legacy of this important group that set the precedent for future veterans’ organizations.
URL:https://lyoncomuseum.org/event/boys-blue-grand-army-republic-traveling-exhibit/
LOCATION:Lyon County Historical Society Museum\, 301 West Lyon Street\, Marshall\, MN\, 56258\, United States
CATEGORIES:Traveling Exhibit
ATTACH;FMTTYPE=image/jpeg:https://lyoncomuseum.org/wp-content/uploads/2018/02/GAR-logo.jpg
END:VEVENT
END:VCALENDAR