BEGIN:VCALENDAR
VERSION:2.0
PRODID:-//Lyon County Museum - ECPv6.15.20//NONSGML v1.0//EN
CALSCALE:GREGORIAN
METHOD:PUBLISH
X-ORIGINAL-URL:https://lyoncomuseum.org
X-WR-CALDESC:Events for Lyon County Museum
REFRESH-INTERVAL;VALUE=DURATION:PT1H
X-Robots-Tag:noindex
X-PUBLISHED-TTL:PT1H
BEGIN:VTIMEZONE
TZID:America/Chicago
BEGIN:DAYLIGHT
TZOFFSETFROM:-0600
TZOFFSETTO:-0500
TZNAME:CDT
DTSTART:20160313T080000
END:DAYLIGHT
BEGIN:STANDARD
TZOFFSETFROM:-0500
TZOFFSETTO:-0600
TZNAME:CST
DTSTART:20161106T070000
END:STANDARD
BEGIN:DAYLIGHT
TZOFFSETFROM:-0600
TZOFFSETTO:-0500
TZNAME:CDT
DTSTART:20170312T080000
END:DAYLIGHT
BEGIN:STANDARD
TZOFFSETFROM:-0500
TZOFFSETTO:-0600
TZNAME:CST
DTSTART:20171105T070000
END:STANDARD
BEGIN:DAYLIGHT
TZOFFSETFROM:-0600
TZOFFSETTO:-0500
TZNAME:CDT
DTSTART:20180311T080000
END:DAYLIGHT
BEGIN:STANDARD
TZOFFSETFROM:-0500
TZOFFSETTO:-0600
TZNAME:CST
DTSTART:20181104T070000
END:STANDARD
BEGIN:DAYLIGHT
TZOFFSETFROM:-0600
TZOFFSETTO:-0500
TZNAME:CDT
DTSTART:20190310T080000
END:DAYLIGHT
BEGIN:STANDARD
TZOFFSETFROM:-0500
TZOFFSETTO:-0600
TZNAME:CST
DTSTART:20191103T070000
END:STANDARD
END:VTIMEZONE
BEGIN:VEVENT
DTSTART;TZID=America/Chicago:20170902T100000
DTEND;TZID=America/Chicago:20180113T160000
DTSTAMP:20260423T041748
CREATED:20170629T152341Z
LAST-MODIFIED:20170720T221709Z
UID:495-1504346400-1515859200@lyoncomuseum.org
SUMMARY:Electrifying Minnesota Traveling Exhibit
DESCRIPTION:Discover how electricity has transformed the lives of Minnesotans since 1882\, learn what makes the generation possible\, and imagine how we will generate electricity in the 21st century.
URL:https://lyoncomuseum.org/event/electrifying-minnesota/
LOCATION:Lyon County Historical Society Museum\, 301 West Lyon Street\, Marshall\, MN\, 56258\, United States
CATEGORIES:Traveling Exhibit
END:VEVENT
BEGIN:VEVENT
DTSTART;TZID=America/Chicago:20180101T100000
DTEND;TZID=America/Chicago:20180101T170000
DTSTAMP:20260423T041748
CREATED:20171127T212533Z
LAST-MODIFIED:20171127T212533Z
UID:1101-1514800800-1514826000@lyoncomuseum.org
SUMMARY:Museum Closed: Holiday
DESCRIPTION:The Lyon County Museum is closed on Monday\, January 1.
URL:https://lyoncomuseum.org/event/museum-closed-holiday-2/
LOCATION:MN
END:VEVENT
END:VCALENDAR