BEGIN:VCALENDAR
VERSION:2.0
PRODID:-//Lyon County Museum - ECPv6.15.20//NONSGML v1.0//EN
CALSCALE:GREGORIAN
METHOD:PUBLISH
X-WR-CALNAME:Lyon County Museum
X-ORIGINAL-URL:https://lyoncomuseum.org
X-WR-CALDESC:Events for Lyon County Museum
REFRESH-INTERVAL;VALUE=DURATION:PT1H
X-Robots-Tag:noindex
X-PUBLISHED-TTL:PT1H
BEGIN:VTIMEZONE
TZID:America/Chicago
BEGIN:DAYLIGHT
TZOFFSETFROM:-0600
TZOFFSETTO:-0500
TZNAME:CDT
DTSTART:20160313T080000
END:DAYLIGHT
BEGIN:STANDARD
TZOFFSETFROM:-0500
TZOFFSETTO:-0600
TZNAME:CST
DTSTART:20161106T070000
END:STANDARD
BEGIN:DAYLIGHT
TZOFFSETFROM:-0600
TZOFFSETTO:-0500
TZNAME:CDT
DTSTART:20170312T080000
END:DAYLIGHT
BEGIN:STANDARD
TZOFFSETFROM:-0500
TZOFFSETTO:-0600
TZNAME:CST
DTSTART:20171105T070000
END:STANDARD
BEGIN:DAYLIGHT
TZOFFSETFROM:-0600
TZOFFSETTO:-0500
TZNAME:CDT
DTSTART:20180311T080000
END:DAYLIGHT
BEGIN:STANDARD
TZOFFSETFROM:-0500
TZOFFSETTO:-0600
TZNAME:CST
DTSTART:20181104T070000
END:STANDARD
BEGIN:DAYLIGHT
TZOFFSETFROM:-0600
TZOFFSETTO:-0500
TZNAME:CDT
DTSTART:20190310T080000
END:DAYLIGHT
BEGIN:STANDARD
TZOFFSETFROM:-0500
TZOFFSETTO:-0600
TZNAME:CST
DTSTART:20191103T070000
END:STANDARD
END:VTIMEZONE
BEGIN:VEVENT
DTSTART;TZID=America/Chicago:20170902T100000
DTEND;TZID=America/Chicago:20180113T160000
DTSTAMP:20260423T060621
CREATED:20170629T152341Z
LAST-MODIFIED:20170720T221709Z
UID:495-1504346400-1515859200@lyoncomuseum.org
SUMMARY:Electrifying Minnesota Traveling Exhibit
DESCRIPTION:Discover how electricity has transformed the lives of Minnesotans since 1882\, learn what makes the generation possible\, and imagine how we will generate electricity in the 21st century.
URL:https://lyoncomuseum.org/event/electrifying-minnesota/
LOCATION:Lyon County Historical Society Museum\, 301 West Lyon Street\, Marshall\, MN\, 56258\, United States
CATEGORIES:Traveling Exhibit
END:VEVENT
BEGIN:VEVENT
DTSTART;TZID=America/Chicago:20171118T100000
DTEND;TZID=America/Chicago:20171230T160000
DTSTAMP:20260423T060621
CREATED:20171023T163703Z
LAST-MODIFIED:20171026T165128Z
UID:1071-1510999200-1514649600@lyoncomuseum.org
SUMMARY:5th Annual Indoor Christmas Tree Walk
DESCRIPTION:View decorated trees by area businesses\, non-profit organizations\, and service organizations inside at the Lyon County Museum. \nTo vote for your favorite(s)\, place money in a box located by each tree. The top 3 organizations/businesses with the most money in their boxes will win the 2017 tree walk. All proceeds from the boxes will go to benefit the Lyon County Historical Society’s mission of preserving and presenting Lyon County history. \n1st\, 2nd and 3rd place prizes will be awarded to the top 3 trees: \n1st prize is $150 in Marshall Chamber Dollars \n2nd prize is $100 in Marshall Chamber Dollars \n3rd prize is $50 in Marshall Chamber Dollars
URL:https://lyoncomuseum.org/event/5th-annual-indoor-christmas-tree-walk/
LOCATION:Lyon County Historical Society Museum\, 301 West Lyon Street\, Marshall\, MN\, 56258\, United States
CATEGORIES:Program
ATTACH;FMTTYPE=image/jpeg:https://lyoncomuseum.org/wp-content/uploads/2017/10/Heritage-Room-5.jpg
END:VEVENT
BEGIN:VEVENT
DTSTART;TZID=America/Chicago:20171214T160000
DTEND;TZID=America/Chicago:20171214T200000
DTSTAMP:20260423T060621
CREATED:20171127T212005Z
LAST-MODIFIED:20171127T212005Z
UID:1095-1513267200-1513281600@lyoncomuseum.org
SUMMARY:Holiday Open House at the Museum
DESCRIPTION:Holiday Open House at the Lyon County Museum on Thursday\, December 14 from 4:00-8:00 PM.  Free will donation fundraiser for the Lyon County Museum. \nThe evening includes: \n\nholiday cookies and treats\nwine samples\nmusic\nlefse demonstration and samples\nVictorian card making and ornaments station\ngift wrapping.\n\nFunds raised will support exhibits\, programs\, and preservation at the Lyon County Museum.
URL:https://lyoncomuseum.org/event/holiday-open-house-museum/
LOCATION:MN
CATEGORIES:Program
ATTACH;FMTTYPE=image/jpeg:https://lyoncomuseum.org/wp-content/uploads/2017/11/Heritage-Room-14.jpg
END:VEVENT
BEGIN:VEVENT
DTSTART;TZID=America/Chicago:20171225T100000
DTEND;TZID=America/Chicago:20171225T170000
DTSTAMP:20260423T060621
CREATED:20171127T212416Z
LAST-MODIFIED:20171127T212416Z
UID:1099-1514196000-1514221200@lyoncomuseum.org
SUMMARY:Museum Closed: Holiday
DESCRIPTION:The Lyon County Museum is closed on Monday\, December 25.
URL:https://lyoncomuseum.org/event/museum-closed-holiday/
LOCATION:MN
END:VEVENT
END:VCALENDAR