BEGIN:VCALENDAR
VERSION:2.0
PRODID:-//Lyon County Museum - ECPv6.15.20//NONSGML v1.0//EN
CALSCALE:GREGORIAN
METHOD:PUBLISH
X-WR-CALNAME:Lyon County Museum
X-ORIGINAL-URL:https://lyoncomuseum.org
X-WR-CALDESC:Events for Lyon County Museum
REFRESH-INTERVAL;VALUE=DURATION:PT1H
X-Robots-Tag:noindex
X-PUBLISHED-TTL:PT1H
BEGIN:VTIMEZONE
TZID:America/Chicago
BEGIN:DAYLIGHT
TZOFFSETFROM:-0600
TZOFFSETTO:-0500
TZNAME:CDT
DTSTART:20250309T080000
END:DAYLIGHT
BEGIN:STANDARD
TZOFFSETFROM:-0500
TZOFFSETTO:-0600
TZNAME:CST
DTSTART:20251102T070000
END:STANDARD
BEGIN:DAYLIGHT
TZOFFSETFROM:-0600
TZOFFSETTO:-0500
TZNAME:CDT
DTSTART:20260308T080000
END:DAYLIGHT
BEGIN:STANDARD
TZOFFSETFROM:-0500
TZOFFSETTO:-0600
TZNAME:CST
DTSTART:20261101T070000
END:STANDARD
BEGIN:DAYLIGHT
TZOFFSETFROM:-0600
TZOFFSETTO:-0500
TZNAME:CDT
DTSTART:20270314T080000
END:DAYLIGHT
BEGIN:STANDARD
TZOFFSETFROM:-0500
TZOFFSETTO:-0600
TZNAME:CST
DTSTART:20271107T070000
END:STANDARD
END:VTIMEZONE
BEGIN:VEVENT
DTSTART;TZID=America/Chicago:20260421T183000
DTEND;TZID=America/Chicago:20260421T193000
DTSTAMP:20260421T045334
CREATED:20260311T202454Z
LAST-MODIFIED:20260311T202454Z
UID:24305-1776796200-1776799800@lyoncomuseum.org
SUMMARY:Reflections Series: "Going to Work: The New Deal in Minnesota" Program
DESCRIPTION:Doug Ohman will present\, “Going to Work: The New Deal in Minnesota” at the Lyon County Museum\, 301 West Lyon Street\, Marshall on Tuesday\, April 21 at 6:30 PM. \nThe 1930’s was an interesting time in our nation’s history.  President Roosevelt helped to create a series of economic programs to respond to the Great Depression. Historians have called it the “3 Rs”: Relief\, Recovery\, and Reform.   Explore the back roads of Minnesota\, State Parks\, and urban settings with historian and photographer Doug Ohman as he discovers and shares the legacy foot print that remains from the WPA\, PWA\, CCC\, NYA and the VCC. \nDoug Ohman has spent the past 30 + years photographing historic architecture and landscapes in Minnesota.  His work has been featured in books\, magazines and calendars.  Doug has spent the last twenty years selling photography art at local art & craft shows. \nAlong with being an independent photographer\, Doug is also a historian and public speaker.  His focus has been Minnesota history.  He gives public presentations to over 300 groups per/year and has been the featured host of eight PBS television programs.  His program:  Landmarks – Keeping history alive\, was nominated for a PBS Emmy in 2019. \nThe program is free and open to the public.  Light refreshments will be served.  Programs at the Lyon County Museum are sponsored by members.  For more information\, contact the Lyon County Museum at 507-537-6580 or director@lyoncomuseum.org
URL:https://lyoncomuseum.org/event/reflections-series-going-to-work-the-new-deal-in-minnesota-program/
LOCATION:Lyon County Historical Society Museum\, 301 West Lyon Street\, Marshall\, MN\, 56258\, United States
CATEGORIES:Program
ATTACH;FMTTYPE=image/png:https://lyoncomuseum.org/wp-content/uploads/2026/03/2026-Doug-Ohman-Program.png
END:VEVENT
END:VCALENDAR